{"text_format":"1","workbook":"xlsx","n_sheets":11,"sheets":["Баланс энергии","Баланс мощности","Заявитель1","Заявитель2","Заявитель3","Заявитель4","НВВ по данным экспертов","НВВ для шаблона ЕИАС отчет","НВВ для шаблона ЕИАС предел","Форма 8.1 эксперты","TEHSHEET"],"not_rendered":{"charts":0,"images":3,"macros":1,"external_links":14,"defined_names":2886,"comments":0,"pivot_tables":0},"unopened":[],"bounds":{"document_bytes":16777216,"sheet_cells":100000,"rows_first":2000,"rows_last":500,"rows_between":2000,"halvings":0,"cell_chars":16384,"cell_head_chars":4096},"cells_cut":0,"cells_raw":0,"read":"whole","date_system":"1900"}

{"sheet":"Баланс энергии","index":0,"n_rows":27,"n_cols":47,"rows_kept":27,"cut":false,"hidden":false,"merged":[[26,1,26,2],[26,6,26,8],[4,37,4,41],[4,42,4,46],[2,0,2,6],[2,7,2,46],[4,32,4,36],[4,0,5,0],[4,1,5,1],[1,10,1,11],[4,17,4,21],[4,22,4,26],[1,5,1,6],[4,27,4,31],[4,7,4,11],[4,12,4,16],[4,2,4,6]]}
["Заполняется в тыс. кВт.ч. !"]
[]
["Баланс электрической энергии по сетям ВН, СН1, СН2, и НН"]
[null,null,null,null,null,null,null,null,null,null,null,null,null,null,null,null,null,null,null,null,null,null,null,null,null,null,null,null,null,null,null,"тыс. кВт.ч."]
["№ п.п.","Показатели","Принято регулирующим органом на 2020 год",null,null,null,null,"Факт за 2020 год",null,null,null,null,"Принято регулирующим органом на 2021 год",null,null,null,null,"По данным организации на 2022 год",null,null,null,null,"По данным организации на 1 полугодие 2022 года",null,null,null,null,"По данным организации на 2 полугодие 2022 года",null,null,null,null,"По данным экспертов на 2022 год",null,null,null,null,"По данным экспертов  на 1 полугодие 2022 года",null,null,null,null,"По данным экспертов на 2 полугодие 2022 года"]
[null,null,"Всего","ВН","СН1","СН2","НН","Всего","ВН","СН1","СН2","НН","Всего","ВН","СН1","СН2","НН","Всего","ВН","СН1","СН2","НН","Всего","ВН","СН1","СН2","НН","Всего","ВН","СН1","СН2","НН","Всего","ВН","СН1","СН2","НН","Всего","ВН","СН1","СН2","НН","Всего","ВН","СН1","СН2","НН"]
[1,2,3,4,5,6,7,18,19,20,21,22,33,34,35,36,37,48,49,50,51,52,53,54,55,56,57,58,59,60,61,62,63,64,65,66,67,53,54,55,56,57,58,59,60,61,62]
["1.","Поступление эл.энергии в сеть , ВСЕГО ",{"$f":"C18+C20+C21","v":141286.41539877301},{"$f":"D14+D15+D16+D17","v":140446.8132584063},{"$f":"E9+E14+E15+E16+E17","v":839.60214036670197},{"$f":"F9+F14+F15+F16+F17","v":141286.41539877301},{"$f":"G9+G14+G15+G16+G17","v":62461.894908302856},{"$f":"H18+H20+H21","v":0},{"$f":"I14+I15+I16+I17","v":0},{"$f":"J9+J14+J15+J16+J17","v":0},{"$f":"K9+K14+K15+K16+K17","v":0},{"$f":"L9+L14+L15+L16+L17","v":0},{"$f":"M18+M20+M21","v":138485.13798267109},{"$f":"N14+N15+N16+N17","v":137663.305401099},{"$f":"O9+O14+O15+O16+O17","v":821.83258157209366},{"$f":"P9+P14+P15+P16+P17","v":138485.13798267109},{"$f":"Q9+Q14+Q15+Q16+Q17","v":61082.70896635385},{"$f":"R18+R20+R21","v":135269.60500000001},{"$f":"S14+S15+S16+S17","v":134374.693},{"$f":"T9+T14+T15+T16+T17","v":894.91200000000003},{"$f":"U9+U14+U15+U16+U17","v":135269.60500000001},{"$f":"V9+V14+V15+V16+V17","v":61720.388371500005},{"$f":"W18+W20+W21","v":68205.154999999999},{"$f":"X14+X15+X16+X17","v":67757.7},{"$f":"Y9+Y14+Y15+Y16+Y17","v":447.45499999999998},{"$f":"Z9+Z14+Z15+Z16+Z17","v":68205.154999999999},{"$f":"AA9+AA14+AA15+AA16+AA17","v":30772.936936500002},{"$f":"AB18+AB20+AB21","v":67064.44},{"$f":"AC14+AC15+AC16+AC17","v":66616.990000000005},{"$f":"AD9+AD14+AD15+AD16+AD17","v":447.45},{"$f":"AE9+AE14+AE15+AE16+AE17","v":67064.44},{"$f":"AF9+AF14+AF15+AF16+AF17","v":29496.854052000002},{"$f":"AG18+AG20+AG21","v":0},{"$f":"AH14+AH15+AH16+AH17","v":0},{"$f":"AI9+AI14+AI15+AI16+AI17","v":0},{"$f":"AJ9+AJ14+AJ15+AJ16+AJ17","v":0},{"$f":"AK9+AK14+AK15+AK16+AK17","v":0},{"$f":"AL18+AL20+AL21","v":0},{"$f":"AM14+AM15+AM16+AM17","v":0},{"$f":"AN9+AN14+AN15+AN16+AN17","v":0},{"$f":"AO9+AO14+AO15+AO16+AO17","v":0},{"$f":"AP9+AP14+AP15+AP16+AP17","v":0},{"$f":"AQ18+AQ20+AQ21","v":0},{"$f":"AR14+AR15+AR16+AR17","v":0},{"$f":"AS9+AS14+AS15+AS16+AS17","v":0},{"$f":"AT9+AT14+AT15+AT16+AT17","v":0},{"$f":"AU9+AU14+AU15+AU16+AU17","v":0}]
["1.1.","из смежной сети, всего","х","х",{"$f":"E11","v":0},{"$f":"F11+F12","v":141286.41539877301},{"$f":"G11+G12+G13","v":62461.894908302856},"х","х",{"$f":"J11","v":0},{"$f":"K11+K12","v":0},{"$f":"L11+L12+L13","v":0},"х","х",{"$f":"O11","v":0},{"$f":"P11+P12","v":138485.13798267109},{"$f":"Q11+Q12+Q13","v":61082.70896635385},"х","х",{"$f":"T11","v":0},{"$f":"U11+U12","v":135269.60500000001},{"$f":"V11+V12+V13","v":61720.388371500005},"х","х",{"$f":"Y11","v":0},{"$f":"Z11+Z12","v":68205.154999999999},{"$f":"AA11+AA12+AA13","v":30772.936936500002},"х","х",{"$f":"AD11","v":0},{"$f":"AE11+AE12","v":67064.44},{"$f":"AF11+AF12+AF13","v":29496.854052000002},"х","х",{"$f":"AI11","v":0},{"$f":"AJ11+AJ12","v":0},{"$f":"AK11+AK12+AK13","v":0},"х","х",{"$f":"AN11","v":0},{"$f":"AO11+AO12","v":0},{"$f":"AP11+AP12+AP13","v":0},"х","х",{"$f":"AS11","v":0},{"$f":"AT11+AT12","v":0},{"$f":"AU11+AU12+AU13","v":0}]
[null,"    в том числе из сети","х","х","х","х","х","х","х","х","х","х","х","х","х","х","х","х","х","х","х","х","х","х","х","х","х","х","х","х","х","х","х","х","х","х","х","х","х","х","х","х","х","х","х","х","х"]
["1.1.1.","ВН","х","х",null,{"$f":"D8-D18-D20-D21-E11-G11","v":140446.8132584063},null,"х","х",null,{"$f":"I8-I18-I20-I21-J11-L11","v":0},null,"х","х",null,{"$f":"N8-N18-N20-N21-O11-Q11","v":137663.305401099},null,"х","х",null,{"$f":"S8-S18-S20-S21-T11-V11","v":134374.693},null,"х","х",null,{"$f":"X8-X18-X20-X21-Y11-AA11","v":67757.7},null,"х","х",null,{"$f":"AC8-AC18-AC20-AC21-AD11-AF11","v":66616.990000000005},null,"х","х",null,{"$f":"AH8-AH18-AH20-AH21-AI11-AK11","v":0},null,"х","х",null,{"$f":"AM8-AM18-AM20-AM21-AN11-AP11","v":0},null,"х","х",null,{"$f":"AR8-AR18-AR20-AR21-AS11-AU11","v":0}]
["1.1.2.","СН1","х","х","х",{"$f":"E8-E18-E20-E21-G12","v":839.60214036670197},null,"х","х","х",{"$f":"J8-J18-J20-J21-L12","v":0},null,"х","х","х",{"$f":"O8-O18-O20-O21-Q12","v":821.83258157209366},null,"х","х","х",{"$f":"T8-T18-T20-T21-V12","v":894.91200000000003},null,"х","х","х",{"$f":"Y8-Y18-Y20-Y21-AA12","v":447.45499999999998},null,"х","х","х",{"$f":"AD8-AD18-AD20-AD21-AF12","v":447.45},null,"х","х","х",{"$f":"AI8-AI18-AI20-AI21-AK12","v":0},null,"х","х","х",{"$f":"AN8-AN18-AN20-AN21-AP12","v":0},null,"х","х","х",{"$f":"AS8-AS18-AS20-AS21-AU12","v":0}]
["1.1.3.","СН2","х","х","х","х",{"$f":"F8-F18-F20-F21","v":62461.894908302856},"х","х","х","х",{"$f":"K8-K18-K20-K21","v":0},"х","х","х","х",{"$f":"P8-P18-P20-P21","v":61082.70896635385},"х","х","х","х",{"$f":"U8-U18-U20-U21","v":61720.388371500005},"х","х","х","х",{"$f":"Z8-Z18-Z20-Z21","v":30772.936936500002},"х","х","х","х",{"$f":"AE8-AE18-AE20-AE21","v":29496.854052000002},"х","х","х","х",{"$f":"AJ8-AJ18-AJ20-AJ21","v":0},"х","х","х","х",{"$f":"AO8-AO18-AO20-AO21","v":0},"х","х","х","х",{"$f":"AT8-AT18-AT20-AT21","v":0}]
["1.2.","от электростанций",{"$f":"SUM(D14:G14)","v":0},null,null,null,null,{"$f":"SUM(I14:L14)","v":0},null,null,null,null,{"$f":"SUM(N14:Q14)","v":0},null,null,null,null,{"$f":"SUM(S14:V14)","v":0},null,null,null,null,{"$f":"SUM(X14:AA14)","v":0},null,null,null,null,{"$f":"SUM(AC14:AF14)","v":0},null,null,null,null,{"$f":"SUM(AH14:AK14)","v":0},null,null,null,null,{"$f":"SUM(AM14:AP14)","v":0},null,null,null,null,{"$f":"SUM(AR14:AU14)","v":0}]
["1.3.","от ОАО \"ФСК ЕЭС\"",{"$f":"SUM(D15:G15)","v":140446.8132584063},140446.8132584063,null,null,null,{"$f":"SUM(I15:L15)","v":0},null,null,null,null,{"$f":"SUM(N15:Q15)","v":137663.305401099},137663.305401099,0,null,null,{"$f":"SUM(S15:V15)","v":134374.693},134374.693,null,null,null,{"$f":"SUM(X15:AA15)","v":67757.7},67757.7,null,null,null,{"$f":"SUM(AC15:AF15)","v":66616.990000000005},66616.990000000005,null,null,null,{"$f":"SUM(AH15:AK15)","v":0},null,null,null,null,{"$f":"SUM(AM15:AP15)","v":0},null,null,null,null,{"$f":"SUM(AR15:AU15)","v":0}]
["1.4.","от филиала \"Владимирэнерго\" ОАО \"МРСК Центра и Приволжья\" ",{"$f":"SUM(D16:G16)","v":839.60214036670197},null,839.60214036670197,null,null,{"$f":"SUM(I16:L16)","v":0},null,null,null,null,{"$f":"SUM(N16:Q16)","v":821.83258157209366},0,821.83258157209366,null,null,{"$f":"SUM(S16:V16)","v":894.91200000000003},null,894.91200000000003,null,null,{"$f":"SUM(X16:AA16)","v":447.45499999999998},null,447.45499999999998,null,null,{"$f":"SUM(AC16:AF16)","v":447.45},null,447.45,null,null,{"$f":"SUM(AH16:AK16)","v":0},null,null,null,null,{"$f":"SUM(AM16:AP16)","v":0},null,null,null,null,{"$f":"SUM(AR16:AU16)","v":0}]
["1.5.","от других сетевых организаций",{"$f":"SUM(D17:G17)","v":0},null,null,null,null,{"$f":"SUM(I17:L17)","v":0},null,null,null,null,{"$f":"SUM(N17:Q17)","v":0},null,null,null,null,{"$f":"SUM(S17:V17)","v":0},null,null,null,null,{"$f":"SUM(X17:AA17)","v":0},null,null,null,null,{"$f":"SUM(AC17:AF17)","v":0},null,null,null,null,{"$f":"SUM(AH17:AK17)","v":0},null,null,null,null,{"$f":"SUM(AM17:AP17)","v":0},null,null,null,null,{"$f":"SUM(AR17:AU17)","v":0}]
["2.","Потери электроэнергии в сети ",{"$f":"SUM(D18:G18)","v":16389.2},{"$f":"D8*D19/100","v":0},{"$f":"E8*E19/100","v":0},{"$f":"F8*F19/100","v":8717.3718301042954},{"$f":"G8*G19/100","v":7671.8281698957053},{"$f":"SUM(I18:L18)","v":0},{"$f":"I8*I19/100","v":0},{"$f":"J8*J19/100","v":0},{"$f":"K8*K19/100","v":0},{"$f":"L8*L19/100","v":0},{"$f":"SUM(N18:Q18)","v":16064.3},{"$f":"N8*N19/100","v":0},{"$f":"O8*O19/100","v":0},{"$f":"P8*P19/100","v":8544.5330135308086},{"$f":"Q8*Q19/100","v":7519.7669864691907},{"$f":"SUM(S18:V18)","v":15690.860844708501},{"$f":"S8*S19/100","v":0},{"$f":"T8*T19/100","v":0},{"$f":"U8*U19/100","v":8346.1346285},{"$f":"V8*V19/100","v":7344.7262162085008},{"$f":"SUM(X18:AA18)","v":7913.3196706545996},{"$f":"X8*X19/100","v":0},{"$f":"Y8*Y19/100","v":0},{"$f":"Z8*Z19/100","v":4208.2580634999995},{"$f":"AA8*AA19/100","v":3705.0616071546001},{"$f":"SUM(AC18:AF18)","v":7777.7877380168002},{"$f":"AC8*AC19/100","v":0},{"$f":"AD8*AD19/100","v":0},{"$f":"AE8*AE19/100","v":4137.8759479999999},{"$f":"AF8*AF19/100","v":3639.9117900168003},{"$f":"SUM(AH18:AK18)","v":0},{"$f":"AH8*AH19/100","v":0},{"$f":"AI8*AI19/100","v":0},{"$f":"AJ8*AJ19/100","v":0},{"$f":"AK8*AK19/100","v":0},{"$f":"SUM(AM18:AP18)","v":0},{"$f":"AM8*AM19/100","v":0},{"$f":"AN8*AN19/100","v":0},{"$f":"AO8*AO19/100","v":0},{"$f":"AP8*AP19/100","v":0},{"$f":"SUM(AR18:AU18)","v":0},{"$f":"AR8*AR19/100","v":0},{"$f":"AS8*AS19/100","v":0},{"$f":"AT8*AT19/100","v":0},{"$f":"AU8*AU19/100","v":0}]
["2.1.","то же в % (п.2./п.1.)",{"$f":"IF(C8=0,0,C18/C8*100)","v":11.599982881399036},null,null,6.17,12.282413431674346,{"$f":"IF(H8=0,0,H18/H8*100)","v":0},null,null,null,null,{"$f":"IF(M8=0,0,M18/M8*100)","v":11.600017326054262},null,null,6.1700000000000008,12.310794844759258,{"$f":"IF(R8=0,0,R18/R8*100)","v":11.599694435944054},null,null,6.17,11.9,{"$f":"IF(W8=0,0,W18/W8*100)","v":11.602231049331388},null,null,6.17,12.04,{"$f":"IF(AB8=0,0,AB18/AB8*100)","v":11.597484058640912},null,null,6.17,12.34,{"$f":"IF(AG8=0,0,AG18/AG8*100)","v":0},null,null,null,null,{"$f":"IF(AL8=0,0,AL18/AL8*100)","v":0},null,null,null,null,{"$f":"IF(AQ8=0,0,AQ18/AQ8*100)","v":0}]
["3.","Расход электроэнергии на производственные и хознужды",{"$f":"SUM(D20:G20)","v":0},null,null,null,null,{"$f":"SUM(I20:L20)","v":0},null,null,null,null,{"$f":"SUM(N20:Q20)","v":0},null,null,null,null,{"$f":"SUM(S20:V20)","v":0},null,null,null,null,{"$f":"SUM(X20:AA20)","v":0},null,null,null,null,{"$f":"SUM(AC20:AF20)","v":0},null,null,null,null,{"$f":"SUM(AH20:AK20)","v":0},null,null,null,null,{"$f":"SUM(AM20:AP20)","v":0},null,null,null,null,{"$f":"SUM(AR20:AU20)","v":0}]
["4.","Полезный отпуск из сети ",{"$f":"SUM(D21:G21)","v":124897.215398773},{"$f":"D22+D23+D24","v":0},{"$f":"E22+E23+E24","v":0},{"$f":"F22+F23+F24","v":70107.148660365856},{"$f":"G8-G18-G20","v":54790.066738407149},{"$f":"SUM(I21:L21)","v":0},{"$f":"I22+I23+I24","v":0},{"$f":"J22+J23+J24","v":0},{"$f":"K22+K23+K24","v":0},{"$f":"L8-L18-L20","v":0},{"$f":"SUM(N21:Q21)","v":122420.8379826711},{"$f":"N22+N23+N24","v":0},{"$f":"O22+O23+O24","v":0},{"$f":"P22+P23+P24","v":68857.896002786438},{"$f":"Q8-Q18-Q20","v":53562.941979884657},{"$f":"SUM(S21:V21)","v":119578.7441552915},{"$f":"S22+S23+S24","v":0},{"$f":"T22+T23+T24","v":0},{"$f":"U22+U23+U24","v":65203.082000000002},{"$f":"V8-V18-V20","v":54375.662155291502},{"$f":"SUM(X21:AA21)","v":60291.835329345398},{"$f":"X22+X23+X24","v":0},{"$f":"Y22+Y23+Y24","v":0},{"$f":"Z22+Z23+Z24","v":33223.96},{"$f":"AA8-AA18-AA20","v":27067.875329345403},{"$f":"SUM(AC21:AF21)","v":59286.652261983203},{"$f":"AC22+AC23+AC24","v":0},{"$f":"AD22+AD23+AD24","v":0},{"$f":"AE22+AE23+AE24","v":33429.71},{"$f":"AF8-AF18-AF20","v":25856.942261983204},{"$f":"SUM(AH21:AK21)","v":0},{"$f":"AH22+AH23+AH24","v":0},{"$f":"AI22+AI23+AI24","v":0},{"$f":"AJ22+AJ23+AJ24","v":0},{"$f":"AK8-AK18-AK20","v":0},{"$f":"SUM(AM21:AP21)","v":0},{"$f":"AM22+AM23+AM24","v":0},{"$f":"AN22+AN23+AN24","v":0},{"$f":"AO22+AO23+AO24","v":0},{"$f":"AP8-AP18-AP20","v":0},{"$f":"SUM(AR21:AU21)","v":0},{"$f":"AR22+AR23+AR24","v":0},{"$f":"AS22+AS23+AS24","v":0},{"$f":"AT22+AT23+AT24","v":0},{"$f":"AU8-AU18-AU20","v":0}]
["4.1.","потребителям, присоединенным к сети",{"$f":"SUM(D22:G22)","v":123827.72013378629},null,null,69037.653395379137,54790.066738407149,{"$f":"SUM(I22:L22)","v":0},null,null,null,null,{"$f":"SUM(N22:Q22)","v":119409.47946044907},null,null,65846.53748056441,53562.941979884657,{"$f":"SUM(S22:V22)","v":117967.462},null,null,63591.802000000003,54375.66,{"$f":"SUM(X22:AA22)","v":59486.2},null,null,32418.32,27067.88,{"$f":"SUM(AC22:AF22)","v":58481.009999999995},null,null,32624.07,25856.94,{"$f":"SUM(AH22:AK22)","v":0},null,null,null,null,{"$f":"SUM(AM22:AP22)","v":0},null,null,null,null,{"$f":"SUM(AR22:AU22)","v":0}]
["4.2.","переток в филиал \"Владимирэнерго\" ОАО \"МРСК Центра и Приволжья\" ",{"$f":"SUM(D23:G23)","v":1069.4952649867248},null,null,1069.4952649867248,0,{"$f":"SUM(I23:L23)","v":0},null,null,null,null,{"$f":"SUM(N23:Q23)","v":2987.4039826711087},null,null,2987.4039826711087,0,{"$f":"SUM(S23:V23)","v":1611.28},null,null,1611.28,null,{"$f":"SUM(X23:AA23)","v":805.64},null,null,805.64,null,{"$f":"SUM(AC23:AF23)","v":805.64},null,null,805.64,null,{"$f":"SUM(AH23:AK23)","v":0},null,null,null,null,{"$f":"SUM(AM23:AP23)","v":0},null,null,null,null,{"$f":"SUM(AR23:AU23)","v":0}]
["4.3.","переток в другие сетевые организации",{"$f":"SUM(D24:G24)","v":0},null,null,null,null,{"$f":"SUM(I24:L24)","v":0},null,null,null,null,{"$f":"SUM(N24:Q24)","v":23.954539550922799},null,null,23.954539550922799,0,{"$f":"SUM(S24:V24)","v":0},null,null,null,null,{"$f":"SUM(X24:AA24)","v":0},null,null,null,null,{"$f":"SUM(AC24:AF24)","v":0},null,null,null,null,{"$f":"SUM(AH24:AK24)","v":0},null,null,null,null,{"$f":"SUM(AM24:AP24)","v":0},null,null,null,null,{"$f":"SUM(AR24:AU24)","v":0}]
[null,"Проверка",null,{"$f":"D8-D18-D20-D22-D23-D24-E11-F11-G11","v":0},{"$f":"E8-E18-E20-E22-E23-E24-F12-G12","v":0},{"$f":"F8-F18-F20-F22-F23-F24-G13","v":0},{"$f":"G8-G18-G20-G22-G23-G24","v":0},null,{"$f":"I8-I18-I20-I22-I23-I24-J11-K11-L11","v":0},{"$f":"J8-J18-J20-J22-J23-J24-K12-L12","v":0},{"$f":"K8-K18-K20-K22-K23-K24-L13","v":0},{"$f":"L8-L18-L20-L22-L23-L24","v":0},null,{"$f":"N8-N18-N20-N22-N23-N24-O11-P11-Q11","v":0},{"$f":"O8-O18-O20-O22-O23-O24-P12-Q12","v":0},{"$f":"P8-P18-P20-P22-P23-P24-Q13","v":0},{"$f":"Q8-Q18-Q20-Q22-Q23-Q24","v":0},null,{"$f":"S8-S18-S20-S22-S23-S24-T11-U11-V11","v":0},{"$f":"T8-T18-T20-T22-T23-T24-U12-V12","v":0},{"$f":"U8-U18-U20-U22-U23-U24-V13","v":0},{"$f":"V8-V18-V20-V22-V23-V24","v":2.1552914986386895E-3},null,{"$f":"X8-X18-X20-X22-X23-X24-Y11-Z11-AA11","v":0},{"$f":"Y8-Y18-Y20-Y22-Y23-Y24-Z12-AA12","v":0},{"$f":"Z8-Z18-Z20-Z22-Z23-Z24-AA13","v":0},{"$f":"AA8-AA18-AA20-AA22-AA23-AA24","v":-4.6706545981578529E-3},null,{"$f":"AC8-AC18-AC20-AC22-AC23-AC24-AD11-AE11-AF11","v":0},{"$f":"AD8-AD18-AD20-AD22-AD23-AD24-AE12-AF12","v":0},{"$f":"AE8-AE18-AE20-AE22-AE23-AE24-AF13","v":0},{"$f":"AF8-AF18-AF20-AF22-AF23-AF24","v":2.261983205244178E-3},null,{"$f":"AH8-AH18-AH20-AH22-AH23-AH24-AI11-AJ11-AK11","v":0},{"$f":"AI8-AI18-AI20-AI22-AI23-AI24-AJ12-AK12","v":0},{"$f":"AJ8-AJ18-AJ20-AJ22-AJ23-AJ24-AK13","v":0},{"$f":"AK8-AK18-AK20-AK22-AK23-AK24","v":0},null,{"$f":"AM8-AM18-AM20-AM22-AM23-AM24-AN11-AO11-AP11","v":0},{"$f":"AN8-AN18-AN20-AN22-AN23-AN24-AO12-AP12","v":0},{"$f":"AO8-AO18-AO20-AO22-AO23-AO24-AP13","v":0},{"$f":"AP8-AP18-AP20-AP22-AP23-AP24","v":0},null,{"$f":"AR8-AR18-AR20-AR22-AR23-AR24-AS11-AT11-AU11","v":0},{"$f":"AS8-AS18-AS20-AS22-AS23-AS24-AT12-AU12","v":0},{"$f":"AT8-AT18-AT20-AT22-AT23-AT24-AU13","v":0},{"$f":"AU8-AU18-AU20-AU22-AU23-AU24","v":0}]
[]
[null,"Руководитель организации"]

{"sheet":"Баланс мощности","index":1,"n_rows":28,"n_cols":12,"rows_kept":28,"cut":false,"hidden":false,"merged":[[5,0,6,0],[5,1,6,1],[2,1,2,5],[27,1,27,2],[27,3,27,5],[1,1,1,6],[5,2,5,6],[5,7,5,11]]}
[]
[null,"Электрическая мощность по диапазонам напряжения "]
[]
[]
[null,null,null,null,null,null,"МВт"]
["№ п.п.","Показатели","По данным организации на 2022 год",null,null,null,null,"По данным экспертов на 2022 год"]
[null,null,"Всего","ВН","СН1","СН2","НН","Всего","ВН","СН1","СН2","НН"]
[1,2,3,4,5,6,7,8,9,10,11,12]
["1.","Поступление мощности в сеть , ВСЕГО ",{"$f":"C19+C21+C22","v":22},{"$f":"D15+D16+D17+D18","v":22},{"$f":"E10+E15+E16+E17+E18","v":0},{"$f":"F10+F15+F16+F17+F18","v":22},{"$f":"G10+G15+G16+G17+G18","v":20.642600000000002},{"$f":"H19+H21+H22","v":0},{"$f":"I15+I16+I17+I18","v":0},{"$f":"J10+J15+J16+J17+J18","v":0},{"$f":"K10+K15+K16+K17+K18","v":0},{"$f":"L10+L15+L16+L17+L18","v":0}]
["1.1.","из смежной сети, всего","х","х",{"$f":"E12","v":0},{"$f":"F12+F13","v":22},{"$f":"G12+G13+G14","v":20.642600000000002},"х","х",{"$f":"J12","v":0},{"$f":"K12+K13","v":0},{"$f":"L12+L13+L14","v":0}]
[null,"    в том числе из сети","х","х","х","х","х","х","х","х","х","х"]
["1.1.1.","ВН","х","х",null,{"$f":"D9-D19-D21-D22-G12-E12","v":22},null,"х","х",null,{"$f":"I9-I19-I21-I22-L12-J12","v":0}]
["1.1.2.","СН1","х","х","х",{"$f":"E9-E19-E21-E22-G13","v":0},null,"х","х","х",{"$f":"J9-J19-J21-J22-L13","v":0}]
["1.1.3.","СН2","х","х","х","х",{"$f":"F9-F19-F21-F22","v":20.642600000000002},"х","х","х","х",{"$f":"K9-K19-K21-K22","v":0}]
["1.2.","от электростанций",{"$f":"SUM(D15:G15)","v":0},null,null,null,null,{"$f":"SUM(I15:L15)","v":0}]
["1.3.","от ОАО \"ФСК ЕЭС\"",{"$f":"SUM(D16:G16)","v":22},22,null,null,null,{"$f":"SUM(I16:L16)","v":0}]
["1.4.","от филиала \"Владимирэнерго\" ОАО \"МРСК Центра и Приволжья\" ",{"$f":"SUM(D17:G17)","v":0},null,null,null,null,{"$f":"SUM(I17:L17)","v":0}]
["1.5.","от других сетевых организаций",{"$f":"SUM(D18:G18)","v":0},null,null,null,null,{"$f":"SUM(I18:L18)","v":0}]
["2.","Потери мощности в сети ",{"$f":"SUM(D19:G19)","v":1.3574000000000002},{"$f":"D9*D20/100","v":0},{"$f":"E9*E20/100","v":0},{"$f":"F9*F20/100","v":1.3574000000000002},{"$f":"G9*G20/100","v":0},{"$f":"SUM(I19:L19)","v":0},{"$f":"I9*I20/100","v":0},{"$f":"J9*J20/100","v":0},{"$f":"K9*K20/100","v":0},{"$f":"L9*L20/100","v":0}]
["2.1.","то же в % (п.2./п.1.)",{"$f":"IF(C9=0,0,C19/C9*100)","v":6.1700000000000008},{"$f":"'Баланс энергии'!S19","v":0},{"$f":"'Баланс энергии'!T19","v":0},{"$f":"'Баланс энергии'!U19","v":6.17},null,{"$f":"IF(H9=0,0,H19/H9*100)","v":0},{"$f":"'Баланс энергии'!AH19","v":0},{"$f":"'Баланс энергии'!AI19","v":0},{"$f":"'Баланс энергии'!AJ19","v":0}]
["3.","Расход электроэнергии на производственные и хознужды",{"$f":"SUM(D21:G21)","v":0},null,null,null,null,{"$f":"SUM(I21:L21)","v":0}]
["4.","Полезный отпуск из сети ",{"$f":"SUM(D22:G22)","v":20.642600000000002},{"$f":"D23+D24+D25","v":0},{"$f":"E23+E24+E25","v":0},{"$f":"F23+F24+F25","v":0},{"$f":"G9-G19-G21","v":20.642600000000002},{"$f":"SUM(I22:L22)","v":0},{"$f":"I23+I24+I25","v":0},{"$f":"J23+J24+J25","v":0},{"$f":"K23+K24+K25","v":0},{"$f":"L9-L19-L21","v":0}]
["4.1.","потребителям, присоединенным к сети",{"$f":"SUM(D23:G23)","v":0},null,null,null,null,{"$f":"SUM(I23:L23)","v":0}]
["4.2.","переток в филиал \"Владимирэнерго\" ОАО \"МРСК Центра и Приволжья\" ",{"$f":"SUM(D24:G24)","v":20.642600000000002},null,null,null,20.642600000000002,{"$f":"SUM(I24:L24)","v":0}]
["4.3.","переток в другие сетевые организации",{"$f":"SUM(D25:G25)","v":0},null,null,null,null,{"$f":"SUM(I25:L25)","v":0}]
[null,"Проверка",null,{"$f":"D9-D19-D21-D23-D24-D25-E12-F12-G12","v":0},{"$f":"E9-E19-E21-E23-E24-E25-F13-G13","v":0},{"$f":"F9-F19-F21-F23-F24-F25-G14","v":0},{"$f":"G9-G19-G21-G23-G24-G25","v":0},null,{"$f":"I9-I19-I21-I23-I24-I25-J12-K12-L12","v":0},{"$f":"J9-J19-J21-J23-J24-J25-K13-L13","v":0},{"$f":"K9-K19-K21-K23-K24-K25-L14","v":0},{"$f":"L9-L19-L21-L23-L24-L25","v":0}]
[]
[null,"Руководитель организации"]

{"sheet":"Заявитель1","index":2,"n_rows":53,"n_cols":10,"rows_kept":53,"cut":false,"hidden":true,"merged":[[0,2,0,7],[2,0,2,6],[3,0,3,6],[4,1,4,6],[6,0,7,0],[6,1,7,1],[6,2,6,6],[6,7,7,7],[52,0,52,6],[35,0,35,5],[37,0,37,6],[42,0,42,6],[43,0,43,6],[44,0,44,6],[45,0,45,6],[46,0,46,6],[48,0,48,6],[49,0,49,6],[50,0,50,6],[51,0,51,6]]}
[null,null,"Приложение 2 к Методическим указаниям,  утвержденным приказом ФСТ от 11.09.2014 г. №215-э/1"]
[]
[" Расчет размера расходов, связанных с предоставлением беспроцентной рассрочки (для конкретного заявителя)\n"]
[]
[null,"(Контрагент (наименование), № договора ТП, Дата заключения договора)"]
[]
["N п/п","Квартал, на который рассчитывается размер расходов, связанных с предоставлением беспроцентной рассрочки","Расходы, связанные с предоставлением беспроцентной рассрочки, тыс. руб. (с учетом НДС)",null,null,null,null,"Номер квартала i"]
[null,null,"в отношении суммарного размера платы за технологическое присоединение в 1 квартале","в отношении суммарного размера платы за технологическое присоединение во 2 квартале","в отношении суммарного размера платы за технологическое присоединение в 3 квартале","в отношении суммарного размера платы за технологическое присоединение в 4 квартале","всего в год",null,null,"  "]
[1,{"$f":"CONCATENATE(\"1 год (\",$B$34,\"г.):\")","v":"1 год (г.):"},{"$f":"SUM(C10:C13)","v":0},{"$f":"SUM(D10:D13)","v":0},{"$f":"SUM(E10:E13)","v":0},{"$f":"SUM(F10:F13)","v":0},{"$f":"SUM(C9:F9)","v":0}]
["1.1.","1 квартал",{"$f":"IF($H10>=$B$32,Заявитель1!$B$33*0.95*((12+$B$32-$H10)/12)*($B$31/4),0)","v":0},null,null,null,0,1]
["1.2.","2 квартал",null,{"$f":"IF($H11>=$B$32,Заявитель1!$B$33*0.95*((12+$B$32-$H11)/12)*($B$31/4),0)","v":0},null,null,0,2]
["1.3.","3 квартал",null,null,{"$f":"IF($H12>=$B$32,Заявитель1!$B$33*0.95*((12+$B$32-$H12)/12)*($B$31/4),0)","v":0},null,0,3]
["1.4.","4 квартал",null,null,null,{"$f":"IF($H13>=$B$32,Заявитель1!$B$33*0.95*((12+$B$32-$H13)/12)*($B$31/4),0)","v":0},0,4]
[2,{"$f":"CONCATENATE(\"1 год (\",$B$34+1,\"г.):\")","v":"1 год (1г.):"},{"$f":"SUM(C15:C18)","v":0},{"$f":"SUM(D15:D18)","v":0},{"$f":"SUM(E15:E18)","v":0},{"$f":"SUM(F15:F18)","v":0},0]
["2.1.","5 квартал",{"$f":"Заявитель1!$B$33*0.95*((12+$B$32-$H15)/12)*($B$31/4)","v":0},null,null,null,0,5]
["2.2.","6 квартал",null,{"$f":"Заявитель1!$B$33*0.95*((12+$B$32-$H16)/12)*($B$31/4)","v":0},null,null,0,6]
["2.3.","7 квартал",null,null,{"$f":"Заявитель1!$B$33*0.95*((12+$B$32-$H17)/12)*($B$31/4)","v":0},null,0,7]
["2.4.","8 квартал",null,null,null,{"$f":"Заявитель1!$B$33*0.95*((12+$B$32-$H18)/12)*($B$31/4)","v":0},0,8]
[3,{"$f":"CONCATENATE(\"1 год (\",$B$34+2,\"г.):\")","v":"1 год (2г.):"},{"$f":"SUM(C20:C23)","v":0},{"$f":"SUM(D20:D23)","v":0},{"$f":"SUM(E20:E23)","v":0},{"$f":"SUM(F20:F23)","v":0},0]
["3.1.","9 квартал",{"$f":"Заявитель1!$B$33*0.95*((12+$B$32-$H20)/12)*($B$31/4)","v":0},null,null,null,0,9]
["3.2.","10 квартал",null,{"$f":"Заявитель1!$B$33*0.95*((12+$B$32-$H21)/12)*($B$31/4)","v":0},null,null,0,10]
["3.3.","11 квартал",null,null,{"$f":"Заявитель1!$B$33*0.95*((12+$B$32-$H22)/12)*($B$31/4)","v":0},null,0,11]
["3.4.","12 квартал",null,null,null,{"$f":"Заявитель1!$B$33*0.95*((12+$B$32-$H23)/12)*($B$31/4)","v":0},0,12]
[4,{"$f":"CONCATENATE(\"1 год (\",$B$34+3,\"г.):\")","v":"1 год (3г.):"},{"$f":"SUM(C25:C27)","v":0},{"$f":"SUM(D25:D27)","v":0},{"$f":"SUM(E25:E27)","v":0},{"$f":"SUM(F25:F27)","v":0},0]
["4.1.","13 квартал",{"$f":"Заявитель1!$B$33*0.95*((12+$B$32-$H25)/12)*($B$31/4)","v":0},null,null,null,0,13]
["4.2.","14 квартал",null,{"$f":"IF((Заявитель1!$B$33*0.95*((12+$B$32-$H26)/12)*($B$31/4))<0,0,Заявитель1!$B$33*0.95*((12+$B$32-$H26)/12)*($B$31/4))","v":0},null,null,0,14]
["4.3.","15 квартал",null,null,{"$f":"IF((Заявитель1!$B$33*0.95*((12+$B$32-$H27)/12)*($B$31/4))<0,0,Заявитель1!$B$33*0.95*((12+$B$32-$H27)/12)*($B$31/4))","v":0},null,0,15]
[5,"Итого",{"$f":"C9+C14+C19+C24","v":0},{"$f":"D9+D14+D19+D24","v":0},{"$f":"E9+E14+E19+E24","v":0},{"$f":"F9+F14+F19+F24","v":0},{"$f":"G9+G14+G19+G24","v":0}]
[]
[]
[]
["k"]
[]
["Год закрытия договора"]
[]
["Размера расходов, связанных с предоставлением беспроцентной рассрочки в 2022 году",null,null,null,null,null,{"$f":"IF(B34<2019,0,IF(B34=2019,G24,IF(B34=2020,G19,IF(B34=2021,G14))))","v":0},"тыс. руб. "]
[]
["Размер расходов, связанных с предоставлением беспроцентной рассрочки, в i-м квартале в течение трехлетнего периода предоставления беспроцентной рассрочки рассчитывается по формуле (1):"]
[]
[null,null,null,", (1)"]
[]
["где:"]
["       - суммарный размер платы за технологическое присоединение, начисляемый заявителям, которым предоставляется рассрочка, в квартале k периода регулирования (тыс. руб.);"]
["k - номер квартала по порядку в периоде регулирования, в который начисляется размер платы за технологическое присоединение (равен от 1 до 4);"]
["i - номер квартала по порядку, начиная с момента начисления размера платы за технологическое присоединение с условием предоставления беспроцентной рассрочки в квартале k, с учетом квартала, в котором произведены начисления, в течение трехлетнего периода предоставления беспроцентной рассрочки (равен от k до 12 + k - 1);"]
["          - ставка рефинансирования Центрального банка Российской Федерации на дату представления сетевой организацией заявки на установление размера платы за технологическое присоединение в регулирующий орган."]
["В случае отклонения фактического значения процентной ставки по кредитам, связанным с рассрочкой по оплате технологического присоединения, от ставки рефинансирования Центрального банка Российской Федерации, при расчете фактического размера расходов, связанных с предоставлением беспроцентной рассрочки, применяется величина процентной ставки в соответствии с пунктом 87 Основ ценообразования."]
[]
["Примечание: "]
["1) Периодом предоставления беспроцентной рассрочки считается 3 года."]
["2) Размер расходов, связанных с предоставлением беспроцентной рассрочки, в каждый квартал периода регулирования в течение трехлетнего периода предоставления беспроцентной рассрочки в отношении планируемого к получению (фактически полученного) от заявителей суммарного размера платы за технологическое присоединение, определяется в соответствии с формулой (1) Методических указаний по определению выпадающих доходов, связанных с осуществлением технологического присоединения к электрическим сетям."]
["3) При расчете планируемых значений показателей при заполнении таблиц 1 и 2 применяется планируемая к получению величина суммарного размера платы за технологическое присоединение, подлежащего беспроцентной рассрочке."]
["4) При расчете фактических значений показателей при заполнении таблиц 1 и 2 применяется суммарная плата за технологическое присоединение, начисленная с беспроцентной рассрочкой в соответствии с заключенными договорами об осуществлении технологического присоединения к электрическим сетям."]

{"sheet":"Заявитель2","index":3,"n_rows":53,"n_cols":10,"rows_kept":53,"cut":false,"hidden":true,"merged":[[0,2,0,7],[2,0,2,6],[3,0,3,6],[4,1,4,6],[6,0,7,0],[6,1,7,1],[6,2,6,6],[6,7,7,7],[52,0,52,6],[35,0,35,5],[37,0,37,6],[42,0,42,6],[43,0,43,6],[44,0,44,6],[45,0,45,6],[46,0,46,6],[48,0,48,6],[49,0,49,6],[50,0,50,6],[51,0,51,6]]}
[null,null,"Приложение 2 к Методическим указаниям,  утвержденным приказом ФСТ от 11.09.2014 г. №215-э/1"]
[]
[" Расчет размера расходов, связанных с предоставлением беспроцентной рассрочки (для конкретного заявителя)\n"]
[]
[null,"(Контрагент (наименование), № договора ТП, Дата заключения договора)"]
[]
["N п/п","Квартал, на который рассчитывается размер расходов, связанных с предоставлением беспроцентной рассрочки","Расходы, связанные с предоставлением беспроцентной рассрочки, тыс. руб. (с учетом НДС)",null,null,null,null,"Номер квартала i"]
[null,null,"в отношении суммарного размера платы за технологическое присоединение в 1 квартале","в отношении суммарного размера платы за технологическое присоединение во 2 квартале","в отношении суммарного размера платы за технологическое присоединение в 3 квартале","в отношении суммарного размера платы за технологическое присоединение в 4 квартале","всего в год",null,null,"  "]
[1,{"$f":"CONCATENATE(\"1 год (\",$B$34,\"г.):\")","v":"1 год (г.):"},{"$f":"SUM(C10:C13)","v":0},{"$f":"SUM(D10:D13)","v":0},{"$f":"SUM(E10:E13)","v":0},{"$f":"SUM(F10:F13)","v":0},{"$f":"SUM(C9:F9)","v":0}]
["1.1.","1 квартал",{"$f":"IF($H10>=$B$32,Заявитель2!$B$33*0.95*((12+$B$32-$H10)/12)*($B$31/4),0)","v":0},null,null,null,0,1]
["1.2.","2 квартал",null,{"$f":"IF($H11>=$B$32,Заявитель2!$B$33*0.95*((12+$B$32-$H11)/12)*($B$31/4),0)","v":0},null,null,0,2]
["1.3.","3 квартал",null,null,{"$f":"IF($H12>=$B$32,Заявитель2!$B$33*0.95*((12+$B$32-$H12)/12)*($B$31/4),0)","v":0},null,0,3]
["1.4.","4 квартал",null,null,null,{"$f":"IF($H13>=$B$32,Заявитель2!$B$33*0.95*((12+$B$32-$H13)/12)*($B$31/4),0)","v":0},0,4]
[2,{"$f":"CONCATENATE(\"1 год (\",$B$34+1,\"г.):\")","v":"1 год (1г.):"},{"$f":"SUM(C15:C18)","v":0},{"$f":"SUM(D15:D18)","v":0},{"$f":"SUM(E15:E18)","v":0},{"$f":"SUM(F15:F18)","v":0},0]
["2.1.","5 квартал",{"$f":"Заявитель2!$B$33*0.95*((12+$B$32-$H15)/12)*($B$31/4)","v":0},null,null,null,0,5]
["2.2.","6 квартал",null,{"$f":"Заявитель2!$B$33*0.95*((12+$B$32-$H16)/12)*($B$31/4)","v":0},null,null,0,6]
["2.3.","7 квартал",null,null,{"$f":"Заявитель2!$B$33*0.95*((12+$B$32-$H17)/12)*($B$31/4)","v":0},null,0,7]
["2.4.","8 квартал",null,null,null,{"$f":"Заявитель2!$B$33*0.95*((12+$B$32-$H18)/12)*($B$31/4)","v":0},0,8]
[3,{"$f":"CONCATENATE(\"1 год (\",$B$34+2,\"г.):\")","v":"1 год (2г.):"},{"$f":"SUM(C20:C23)","v":0},{"$f":"SUM(D20:D23)","v":0},{"$f":"SUM(E20:E23)","v":0},{"$f":"SUM(F20:F23)","v":0},0]
["3.1.","9 квартал",{"$f":"Заявитель2!$B$33*0.95*((12+$B$32-$H20)/12)*($B$31/4)","v":0},null,null,null,0,9]
["3.2.","10 квартал",null,{"$f":"Заявитель2!$B$33*0.95*((12+$B$32-$H21)/12)*($B$31/4)","v":0},null,null,0,10]
["3.3.","11 квартал",null,null,{"$f":"Заявитель2!$B$33*0.95*((12+$B$32-$H22)/12)*($B$31/4)","v":0},null,0,11]
["3.4.","12 квартал",null,null,null,{"$f":"Заявитель2!$B$33*0.95*((12+$B$32-$H23)/12)*($B$31/4)","v":0},0,12]
[4,{"$f":"CONCATENATE(\"1 год (\",$B$34+3,\"г.):\")","v":"1 год (3г.):"},{"$f":"SUM(C25:C27)","v":0},{"$f":"SUM(D25:D27)","v":0},{"$f":"SUM(E25:E27)","v":0},{"$f":"SUM(F25:F27)","v":0},0]
["4.1.","13 квартал",{"$f":"Заявитель2!$B$33*0.95*((12+$B$32-$H25)/12)*($B$31/4)","v":0},null,null,null,0,13]
["4.2.","14 квартал",null,{"$f":"IF((Заявитель2!$B$33*0.95*((12+$B$32-$H26)/12)*($B$31/4))<0,0,Заявитель2!$B$33*0.95*((12+$B$32-$H26)/12)*($B$31/4))","v":0},null,null,0,14]
["4.3.","15 квартал",null,null,{"$f":"IF((Заявитель2!$B$33*0.95*((12+$B$32-$H27)/12)*($B$31/4))<0,0,Заявитель2!$B$33*0.95*((12+$B$32-$H27)/12)*($B$31/4))","v":0},null,0,15]
[5,"Итого",{"$f":"C9+C14+C19+C24","v":0},{"$f":"D9+D14+D19+D24","v":0},{"$f":"E9+E14+E19+E24","v":0},{"$f":"F9+F14+F19+F24","v":0},{"$f":"G9+G14+G19+G24","v":0}]
[]
[]
[]
["k"]
[]
["Год закрытия договора"]
[]
["Размера расходов, связанных с предоставлением беспроцентной рассрочки в 2022 году",null,null,null,null,null,{"$f":"IF(B34<2019,0,IF(B34=2019,G24,IF(B34=2020,G19,IF(B34=2021,G14))))","v":0},"тыс. руб. "]
[]
["Размер расходов, связанных с предоставлением беспроцентной рассрочки, в i-м квартале в течение трехлетнего периода предоставления беспроцентной рассрочки рассчитывается по формуле (1):"]
[]
[null,null,null,", (1)"]
[]
["где:"]
["       - суммарный размер платы за технологическое присоединение, начисляемый заявителям, которым предоставляется рассрочка, в квартале k периода регулирования (тыс. руб.);"]
["k - номер квартала по порядку в периоде регулирования, в который начисляется размер платы за технологическое присоединение (равен от 1 до 4);"]
["i - номер квартала по порядку, начиная с момента начисления размера платы за технологическое присоединение с условием предоставления беспроцентной рассрочки в квартале k, с учетом квартала, в котором произведены начисления, в течение трехлетнего периода предоставления беспроцентной рассрочки (равен от k до 12 + k - 1);"]
["          - ставка рефинансирования Центрального банка Российской Федерации на дату представления сетевой организацией заявки на установление размера платы за технологическое присоединение в регулирующий орган."]
["В случае отклонения фактического значения процентной ставки по кредитам, связанным с рассрочкой по оплате технологического присоединения, от ставки рефинансирования Центрального банка Российской Федерации, при расчете фактического размера расходов, связанных с предоставлением беспроцентной рассрочки, применяется величина процентной ставки в соответствии с пунктом 87 Основ ценообразования."]
[]
["Примечание: "]
["1) Периодом предоставления беспроцентной рассрочки считается 3 года."]
["2) Размер расходов, связанных с предоставлением беспроцентной рассрочки, в каждый квартал периода регулирования в течение трехлетнего периода предоставления беспроцентной рассрочки в отношении планируемого к получению (фактически полученного) от заявителей суммарного размера платы за технологическое присоединение, определяется в соответствии с формулой (1) Методических указаний по определению выпадающих доходов, связанных с осуществлением технологического присоединения к электрическим сетям."]
["3) При расчете планируемых значений показателей при заполнении таблиц 1 и 2 применяется планируемая к получению величина суммарного размера платы за технологическое присоединение, подлежащего беспроцентной рассрочке."]
["4) При расчете фактических значений показателей при заполнении таблиц 1 и 2 применяется суммарная плата за технологическое присоединение, начисленная с беспроцентной рассрочкой в соответствии с заключенными договорами об осуществлении технологического присоединения к электрическим сетям."]

{"sheet":"Заявитель3","index":4,"n_rows":53,"n_cols":10,"rows_kept":53,"cut":false,"hidden":true,"merged":[[0,2,0,7],[2,0,2,6],[3,0,3,6],[4,1,4,6],[6,0,7,0],[6,1,7,1],[6,2,6,6],[6,7,7,7],[52,0,52,6],[35,0,35,5],[37,0,37,6],[42,0,42,6],[43,0,43,6],[44,0,44,6],[45,0,45,6],[46,0,46,6],[48,0,48,6],[49,0,49,6],[50,0,50,6],[51,0,51,6]]}
[null,null,"Приложение 2 к Методическим указаниям,  утвержденным приказом ФСТ от 11.09.2014 г. №215-э/1"]
[]
[" Расчет размера расходов, связанных с предоставлением беспроцентной рассрочки (для конкретного заявителя)\n"]
[]
[null,"(Контрагент (наименование), № договора ТП, Дата заключения договора)"]
[]
["N п/п","Квартал, на который рассчитывается размер расходов, связанных с предоставлением беспроцентной рассрочки","Расходы, связанные с предоставлением беспроцентной рассрочки, тыс. руб. (с учетом НДС)",null,null,null,null,"Номер квартала i"]
[null,null,"в отношении суммарного размера платы за технологическое присоединение в 1 квартале","в отношении суммарного размера платы за технологическое присоединение во 2 квартале","в отношении суммарного размера платы за технологическое присоединение в 3 квартале","в отношении суммарного размера платы за технологическое присоединение в 4 квартале","всего в год",null,null,"  "]
[1,{"$f":"CONCATENATE(\"1 год (\",$B$34,\"г.):\")","v":"1 год (г.):"},{"$f":"SUM(C10:C13)","v":0},{"$f":"SUM(D10:D13)","v":0},{"$f":"SUM(E10:E13)","v":0},{"$f":"SUM(F10:F13)","v":0},{"$f":"SUM(C9:F9)","v":0}]
["1.1.","1 квартал",{"$f":"IF($H10>=$B$32,Заявитель3!$B$33*0.95*((12+$B$32-$H10)/12)*($B$31/4),0)","v":0},null,null,null,0,1]
["1.2.","2 квартал",null,{"$f":"IF($H11>=$B$32,Заявитель3!$B$33*0.95*((12+$B$32-$H11)/12)*($B$31/4),0)","v":0},null,null,0,2]
["1.3.","3 квартал",null,null,{"$f":"IF($H12>=$B$32,Заявитель3!$B$33*0.95*((12+$B$32-$H12)/12)*($B$31/4),0)","v":0},null,0,3]
["1.4.","4 квартал",null,null,null,{"$f":"IF($H13>=$B$32,Заявитель3!$B$33*0.95*((12+$B$32-$H13)/12)*($B$31/4),0)","v":0},0,4]
[2,{"$f":"CONCATENATE(\"1 год (\",$B$34+1,\"г.):\")","v":"1 год (1г.):"},{"$f":"SUM(C15:C18)","v":0},{"$f":"SUM(D15:D18)","v":0},{"$f":"SUM(E15:E18)","v":0},{"$f":"SUM(F15:F18)","v":0},0]
["2.1.","5 квартал",{"$f":"Заявитель3!$B$33*0.95*((12+$B$32-$H15)/12)*($B$31/4)","v":0},null,null,null,0,5]
["2.2.","6 квартал",null,{"$f":"Заявитель3!$B$33*0.95*((12+$B$32-$H16)/12)*($B$31/4)","v":0},null,null,0,6]
["2.3.","7 квартал",null,null,{"$f":"Заявитель3!$B$33*0.95*((12+$B$32-$H17)/12)*($B$31/4)","v":0},null,0,7]
["2.4.","8 квартал",null,null,null,{"$f":"Заявитель3!$B$33*0.95*((12+$B$32-$H18)/12)*($B$31/4)","v":0},0,8]
[3,{"$f":"CONCATENATE(\"1 год (\",$B$34+2,\"г.):\")","v":"1 год (2г.):"},{"$f":"SUM(C20:C23)","v":0},{"$f":"SUM(D20:D23)","v":0},{"$f":"SUM(E20:E23)","v":0},{"$f":"SUM(F20:F23)","v":0},0]
["3.1.","9 квартал",{"$f":"Заявитель3!$B$33*0.95*((12+$B$32-$H20)/12)*($B$31/4)","v":0},null,null,null,0,9]
["3.2.","10 квартал",null,{"$f":"Заявитель3!$B$33*0.95*((12+$B$32-$H21)/12)*($B$31/4)","v":0},null,null,0,10]
["3.3.","11 квартал",null,null,{"$f":"Заявитель3!$B$33*0.95*((12+$B$32-$H22)/12)*($B$31/4)","v":0},null,0,11]
["3.4.","12 квартал",null,null,null,{"$f":"Заявитель3!$B$33*0.95*((12+$B$32-$H23)/12)*($B$31/4)","v":0},0,12]
[4,{"$f":"CONCATENATE(\"1 год (\",$B$34+3,\"г.):\")","v":"1 год (3г.):"},{"$f":"SUM(C25:C27)","v":0},{"$f":"SUM(D25:D27)","v":0},{"$f":"SUM(E25:E27)","v":0},{"$f":"SUM(F25:F27)","v":0},0]
["4.1.","13 квартал",{"$f":"Заявитель3!$B$33*0.95*((12+$B$32-$H25)/12)*($B$31/4)","v":0},null,null,null,0,13]
["4.2.","14 квартал",null,{"$f":"IF((Заявитель3!$B$33*0.95*((12+$B$32-$H26)/12)*($B$31/4))<0,0,Заявитель3!$B$33*0.95*((12+$B$32-$H26)/12)*($B$31/4))","v":0},null,null,0,14]
["4.3.","15 квартал",null,null,{"$f":"IF((Заявитель3!$B$33*0.95*((12+$B$32-$H27)/12)*($B$31/4))<0,0,Заявитель3!$B$33*0.95*((12+$B$32-$H27)/12)*($B$31/4))","v":0},null,0,15]
[5,"Итого",{"$f":"C9+C14+C19+C24","v":0},{"$f":"D9+D14+D19+D24","v":0},{"$f":"E9+E14+E19+E24","v":0},{"$f":"F9+F14+F19+F24","v":0},{"$f":"G9+G14+G19+G24","v":0}]
[]
[]
[]
["k"]
[]
["Год закрытия договора"]
[]
["Размера расходов, связанных с предоставлением беспроцентной рассрочки в 2022 году",null,null,null,null,null,{"$f":"IF(B34<2019,0,IF(B34=2019,G24,IF(B34=2020,G19,IF(B34=2021,G14))))","v":0},"тыс. руб. "]
[]
["Размер расходов, связанных с предоставлением беспроцентной рассрочки, в i-м квартале в течение трехлетнего периода предоставления беспроцентной рассрочки рассчитывается по формуле (1):"]
[]
[null,null,null,", (1)"]
[]
["где:"]
["       - суммарный размер платы за технологическое присоединение, начисляемый заявителям, которым предоставляется рассрочка, в квартале k периода регулирования (тыс. руб.);"]
["k - номер квартала по порядку в периоде регулирования, в который начисляется размер платы за технологическое присоединение (равен от 1 до 4);"]
["i - номер квартала по порядку, начиная с момента начисления размера платы за технологическое присоединение с условием предоставления беспроцентной рассрочки в квартале k, с учетом квартала, в котором произведены начисления, в течение трехлетнего периода предоставления беспроцентной рассрочки (равен от k до 12 + k - 1);"]
["          - ставка рефинансирования Центрального банка Российской Федерации на дату представления сетевой организацией заявки на установление размера платы за технологическое присоединение в регулирующий орган."]
["В случае отклонения фактического значения процентной ставки по кредитам, связанным с рассрочкой по оплате технологического присоединения, от ставки рефинансирования Центрального банка Российской Федерации, при расчете фактического размера расходов, связанных с предоставлением беспроцентной рассрочки, применяется величина процентной ставки в соответствии с пунктом 87 Основ ценообразования."]
[]
["Примечание: "]
["1) Периодом предоставления беспроцентной рассрочки считается 3 года."]
["2) Размер расходов, связанных с предоставлением беспроцентной рассрочки, в каждый квартал периода регулирования в течение трехлетнего периода предоставления беспроцентной рассрочки в отношении планируемого к получению (фактически полученного) от заявителей суммарного размера платы за технологическое присоединение, определяется в соответствии с формулой (1) Методических указаний по определению выпадающих доходов, связанных с осуществлением технологического присоединения к электрическим сетям."]
["3) При расчете планируемых значений показателей при заполнении таблиц 1 и 2 применяется планируемая к получению величина суммарного размера платы за технологическое присоединение, подлежащего беспроцентной рассрочке."]
["4) При расчете фактических значений показателей при заполнении таблиц 1 и 2 применяется суммарная плата за технологическое присоединение, начисленная с беспроцентной рассрочкой в соответствии с заключенными договорами об осуществлении технологического присоединения к электрическим сетям."]

{"sheet":"Заявитель4","index":5,"n_rows":53,"n_cols":10,"rows_kept":53,"cut":false,"hidden":true,"merged":[[0,2,0,7],[2,0,2,6],[3,0,3,6],[4,1,4,6],[6,0,7,0],[6,1,7,1],[6,2,6,6],[6,7,7,7],[52,0,52,6],[35,0,35,5],[37,0,37,6],[42,0,42,6],[43,0,43,6],[44,0,44,6],[45,0,45,6],[46,0,46,6],[48,0,48,6],[49,0,49,6],[50,0,50,6],[51,0,51,6]]}
[null,null,"Приложение 2 к Методическим указаниям,  утвержденным приказом ФСТ от 11.09.2014 г. №215-э/1"]
[]
[" Расчет размера расходов, связанных с предоставлением беспроцентной рассрочки (для конкретного заявителя)\n"]
[]
[null,"(Контрагент (наименование), № договора ТП, Дата заключения договора)"]
[]
["N п/п","Квартал, на который рассчитывается размер расходов, связанных с предоставлением беспроцентной рассрочки","Расходы, связанные с предоставлением беспроцентной рассрочки, тыс. руб. (с учетом НДС)",null,null,null,null,"Номер квартала i"]
[null,null,"в отношении суммарного размера платы за технологическое присоединение в 1 квартале","в отношении суммарного размера платы за технологическое присоединение во 2 квартале","в отношении суммарного размера платы за технологическое присоединение в 3 квартале","в отношении суммарного размера платы за технологическое присоединение в 4 квартале","всего в год",null,null,"  "]
[1,{"$f":"CONCATENATE(\"1 год (\",$B$34,\"г.):\")","v":"1 год (г.):"},{"$f":"SUM(C10:C13)","v":0},{"$f":"SUM(D10:D13)","v":0},{"$f":"SUM(E10:E13)","v":0},{"$f":"SUM(F10:F13)","v":0},{"$f":"SUM(C9:F9)","v":0}]
["1.1.","1 квартал",{"$f":"IF($H10>=$B$32,Заявитель4!$B$33*0.95*((12+$B$32-$H10)/12)*($B$31/4),0)","v":0},null,null,null,0,1]
["1.2.","2 квартал",null,{"$f":"IF($H11>=$B$32,Заявитель4!$B$33*0.95*((12+$B$32-$H11)/12)*($B$31/4),0)","v":0},null,null,0,2]
["1.3.","3 квартал",null,null,{"$f":"IF($H12>=$B$32,Заявитель4!$B$33*0.95*((12+$B$32-$H12)/12)*($B$31/4),0)","v":0},null,0,3]
["1.4.","4 квартал",null,null,null,{"$f":"IF($H13>=$B$32,Заявитель4!$B$33*0.95*((12+$B$32-$H13)/12)*($B$31/4),0)","v":0},0,4]
[2,{"$f":"CONCATENATE(\"1 год (\",$B$34+1,\"г.):\")","v":"1 год (1г.):"},{"$f":"SUM(C15:C18)","v":0},{"$f":"SUM(D15:D18)","v":0},{"$f":"SUM(E15:E18)","v":0},{"$f":"SUM(F15:F18)","v":0},0]
["2.1.","5 квартал",{"$f":"Заявитель4!$B$33*0.95*((12+$B$32-$H15)/12)*($B$31/4)","v":0},null,null,null,0,5]
["2.2.","6 квартал",null,{"$f":"Заявитель4!$B$33*0.95*((12+$B$32-$H16)/12)*($B$31/4)","v":0},null,null,0,6]
["2.3.","7 квартал",null,null,{"$f":"Заявитель4!$B$33*0.95*((12+$B$32-$H17)/12)*($B$31/4)","v":0},null,0,7]
["2.4.","8 квартал",null,null,null,{"$f":"Заявитель4!$B$33*0.95*((12+$B$32-$H18)/12)*($B$31/4)","v":0},0,8]
[3,{"$f":"CONCATENATE(\"1 год (\",$B$34+2,\"г.):\")","v":"1 год (2г.):"},{"$f":"SUM(C20:C23)","v":0},{"$f":"SUM(D20:D23)","v":0},{"$f":"SUM(E20:E23)","v":0},{"$f":"SUM(F20:F23)","v":0},0]
["3.1.","9 квартал",{"$f":"Заявитель4!$B$33*0.95*((12+$B$32-$H20)/12)*($B$31/4)","v":0},null,null,null,0,9]
["3.2.","10 квартал",null,{"$f":"Заявитель4!$B$33*0.95*((12+$B$32-$H21)/12)*($B$31/4)","v":0},null,null,0,10]
["3.3.","11 квартал",null,null,{"$f":"Заявитель4!$B$33*0.95*((12+$B$32-$H22)/12)*($B$31/4)","v":0},null,0,11]
["3.4.","12 квартал",null,null,null,{"$f":"Заявитель4!$B$33*0.95*((12+$B$32-$H23)/12)*($B$31/4)","v":0},0,12]
[4,{"$f":"CONCATENATE(\"1 год (\",$B$34+3,\"г.):\")","v":"1 год (3г.):"},{"$f":"SUM(C25:C27)","v":0},{"$f":"SUM(D25:D27)","v":0},{"$f":"SUM(E25:E27)","v":0},{"$f":"SUM(F25:F27)","v":0},0]
["4.1.","13 квартал",{"$f":"Заявитель4!$B$33*0.95*((12+$B$32-$H25)/12)*($B$31/4)","v":0},null,null,null,0,13]
["4.2.","14 квартал",null,{"$f":"IF((Заявитель4!$B$33*0.95*((12+$B$32-$H26)/12)*($B$31/4))<0,0,Заявитель4!$B$33*0.95*((12+$B$32-$H26)/12)*($B$31/4))","v":0},null,null,0,14]
["4.3.","15 квартал",null,null,{"$f":"IF((Заявитель4!$B$33*0.95*((12+$B$32-$H27)/12)*($B$31/4))<0,0,Заявитель4!$B$33*0.95*((12+$B$32-$H27)/12)*($B$31/4))","v":0},null,0,15]
[5,"Итого",{"$f":"C9+C14+C19+C24","v":0},{"$f":"D9+D14+D19+D24","v":0},{"$f":"E9+E14+E19+E24","v":0},{"$f":"F9+F14+F19+F24","v":0},{"$f":"G9+G14+G19+G24","v":0}]
[]
[]
[]
["k"]
[]
["Год закрытия договора"]
[]
["Размера расходов, связанных с предоставлением беспроцентной рассрочки в 2022 году",null,null,null,null,null,{"$f":"IF(B34<2019,0,IF(B34=2019,G24,IF(B34=2020,G19,IF(B34=2021,G14))))","v":0},"тыс. руб. "]
[]
["Размер расходов, связанных с предоставлением беспроцентной рассрочки, в i-м квартале в течение трехлетнего периода предоставления беспроцентной рассрочки рассчитывается по формуле (1):"]
[]
[null,null,null,", (1)"]
[]
["где:"]
["       - суммарный размер платы за технологическое присоединение, начисляемый заявителям, которым предоставляется рассрочка, в квартале k периода регулирования (тыс. руб.);"]
["k - номер квартала по порядку в периоде регулирования, в который начисляется размер платы за технологическое присоединение (равен от 1 до 4);"]
["i - номер квартала по порядку, начиная с момента начисления размера платы за технологическое присоединение с условием предоставления беспроцентной рассрочки в квартале k, с учетом квартала, в котором произведены начисления, в течение трехлетнего периода предоставления беспроцентной рассрочки (равен от k до 12 + k - 1);"]
["          - ставка рефинансирования Центрального банка Российской Федерации на дату представления сетевой организацией заявки на установление размера платы за технологическое присоединение в регулирующий орган."]
["В случае отклонения фактического значения процентной ставки по кредитам, связанным с рассрочкой по оплате технологического присоединения, от ставки рефинансирования Центрального банка Российской Федерации, при расчете фактического размера расходов, связанных с предоставлением беспроцентной рассрочки, применяется величина процентной ставки в соответствии с пунктом 87 Основ ценообразования."]
[]
["Примечание: "]
["1) Периодом предоставления беспроцентной рассрочки считается 3 года."]
["2) Размер расходов, связанных с предоставлением беспроцентной рассрочки, в каждый квартал периода регулирования в течение трехлетнего периода предоставления беспроцентной рассрочки в отношении планируемого к получению (фактически полученного) от заявителей суммарного размера платы за технологическое присоединение, определяется в соответствии с формулой (1) Методических указаний по определению выпадающих доходов, связанных с осуществлением технологического присоединения к электрическим сетям."]
["3) При расчете планируемых значений показателей при заполнении таблиц 1 и 2 применяется планируемая к получению величина суммарного размера платы за технологическое присоединение, подлежащего беспроцентной рассрочке."]
["4) При расчете фактических значений показателей при заполнении таблиц 1 и 2 применяется суммарная плата за технологическое присоединение, начисленная с беспроцентной рассрочкой в соответствии с заключенными договорами об осуществлении технологического присоединения к электрическим сетям."]

{"sheet":"НВВ по данным экспертов","index":6,"n_rows":71,"n_cols":12,"rows_kept":71,"cut":false,"hidden":true,"merged":[[15,0,15,6],[1,0,1,6],[2,0,2,6],[4,0,5,0],[4,1,5,1],[4,2,5,2],[4,3,4,4],[4,5,5,5],[4,6,5,6],[7,0,7,6],[67,0,67,6],[72,0,72,1],[72,2,72,4],[21,0,21,6],[27,0,27,6],[29,0,29,6],[47,0,47,6],[55,0,55,6],[63,0,63,6]]}
[]
["Расчет необходимой валовой выручки (НВВ) на оказание услуги по передаче электрической энергии на 2022 год долгосрочного периода регулирования 2020- 2024 годы  по данным экспертов"]
[{"$f":"#REF!","v":{"$error":"#REF!"}}]
[]
["№ п.п.","Наименование","Ед.изм.","2020 год",null,"2021 год утверждено","2022 год"]
[null,null,null,"Утверждено","Факт"]
[1,2,3,4,5,6,7]
["Долгосрочные параметры регулирования"]
[1,"Базовый уровень подконтрольных расходов (ПР)","тыс.руб.","х","х",{"$f":"#REF!","v":{"$error":"#REF!"}},"х"]
[2,"Индекс эффективности подконтрольных расходов (Хэф)","%",{"$f":"#REF!","v":{"$error":"#REF!"}},{"$f":"#REF!","v":{"$error":"#REF!"}},{"$f":"#REF!","v":{"$error":"#REF!"}},{"$f":"#REF!","v":{"$error":"#REF!"}}]
[3,"Коэффициент эластичности подконтрольных расходов по количеству активов (К эл)","знач.",0.75,0.75,0.75,0.75]
[4,"Уровень надежности и качества оказываемых услуг","х","х","х","х","х"]
["4.1.","Показатель средней продолжительности прекращений передачи электрической энергии на точку поставки , час.","знач.",{"$f":"#REF!","v":{"$error":"#REF!"}},{"$f":"#REF!","v":{"$error":"#REF!"}},1.4460999999999999,1.4244000000000001,null,2021,1.4460999999999999,0.7853,1]
["4.2.","Показатель средней частоты прекращений передачи электрической энергии на точку поставки , шт.","знач.",{"$f":"#REF!","v":{"$error":"#REF!"}},{"$f":"#REF!","v":{"$error":"#REF!"}},0.7853,0.69289999999999996,null,null,1.4244000000000001,0.69289999999999996,1]
["4.3.","Показатель уровня качества осуществляемого технологического присоединения          ","знач.",{"$f":"#REF!","v":{"$error":"#REF!"}},{"$f":"#REF!","v":{"$error":"#REF!"}},1,1]
["Планируемые значения параметров расчета тарифов"]
[1,"Индекс потребительских цен (ИПЦ)","%","х","х",{"$f":"#REF!","v":{"$error":"#REF!"}},{"$f":"#REF!","v":{"$error":"#REF!"}}]
[2,"Количество активов (УЕ)","усл.ед.",{"$f":"#REF!","v":{"$error":"#REF!"}},{"$f":"#REF!","v":{"$error":"#REF!"}},{"$f":"#REF!","v":{"$error":"#REF!"}},{"$f":"#REF!","v":{"$error":"#REF!"}}]
[3,"Величина неподконтрольных расходов (НР)","тыс.руб.",{"$f":"D46","v":{"$error":"#REF!"}},{"$f":"E46","v":{"$error":"#REF!"}},{"$f":"F46","v":{"$error":"#REF!"}},{"$f":"G46","v":{"$error":"#REF!"}}]
[4,"Величина полезного отпуска электрической энергии","млн.кВт.ч.",{"$f":"'Баланс энергии'!C21-'Баланс энергии'!C23","v":123827.72013378628},{"$f":"'Баланс энергии'!H21-'Баланс энергии'!H23","v":0},{"$f":"'Баланс энергии'!M21-'Баланс энергии'!M23","v":119433.43399999999},{"$f":"'Баланс энергии'!AG21-'Баланс энергии'!AG23","v":0}]
[5,"Прогнозная цена (тариф) покупки потерь электрической энергии","руб./МВт.ч.",{"$f":"D66","v":{"$error":"#REF!"}},{"$f":"E66","v":{"$error":"#REF!"}},{"$f":"F66","v":{"$error":"#REF!"}},{"$f":"G66","v":{"$error":"#REF!"}}]
["Расчетные показатели"]
[1,"Доля подконтрольных расходов на МВт.ч.","руб.МВт.ч.",{"$f":"IF(D20=0,0,D29/D20/10)","v":{"$error":"#REF!"}},{"$f":"IF(E20=0,0,E29/E20/10)","v":0},{"$f":"IF(F20=0,0,F29/F20/10)","v":{"$error":"#REF!"}},{"$f":"IF(G20=0,0,G29/G20/10)","v":0}]
[2,"Проверка прибыли на капитальные вложения (не более 12 % от НВВ на содержание сетей)","%","х","х","х",{"$f":"IF(G25=0,0,G43/G25)","v":{"$error":"#REF!"}}]
[3,"НВВ для расчета КВЛ ","тыс.руб.","х","х","х",{"$f":"G63-#REF!/0.8-#REF!-#REF!-#REF!","v":{"$error":"#REF!"}}]
[4,"Индекс изменения количества активов (ИКА)","%","х","х","х",{"$f":"#REF!","v":{"$error":"#REF!"}}]
[5,"Общий коэффициент индексации подконтрольных расходов ПР= ИПЦ*(1+(Кэл*ИКА))*(1-Хэф)","знач.","х","х","х",{"$f":"#REF!","v":{"$error":"#REF!"}}]
["Подконтрольные расходы организации (ПР)"]
[null,"Итого ПР с учетом индексации:","тыс.руб.",{"$f":"#REF!","v":{"$error":"#REF!"}},{"$f":"#REF!","v":{"$error":"#REF!"}},{"$f":"#REF!","v":{"$error":"#REF!"}},{"$f":"#REF!","v":{"$error":"#REF!"}}]
[]
[1,"Амортизация основных средств","тыс.руб.",{"$f":"#REF!","v":{"$error":"#REF!"}},{"$f":"#REF!","v":{"$error":"#REF!"}},{"$f":"#REF!","v":{"$error":"#REF!"}},{"$f":"ROUND(#REF!,2)","v":{"$error":"#REF!"}}]
[2,"Страховые взносы","тыс.руб.",{"$f":"#REF!","v":{"$error":"#REF!"}},{"$f":"#REF!","v":{"$error":"#REF!"}},{"$f":"#REF!","v":{"$error":"#REF!"}},{"$f":"ROUND(#REF!,2)","v":{"$error":"#REF!"}}]
[3,"Расходы на оплату услуг организаций, осуществляющие регулируемые виды деятельности","тыс.руб.",{"$f":"#REF!","v":{"$error":"#REF!"}},{"$f":"#REF!","v":{"$error":"#REF!"}},{"$f":"#REF!","v":{"$error":"#REF!"}},{"$f":"ROUND(#REF!,2)","v":{"$error":"#REF!"}}]
[4,"Налоги и сборы, в том числе:","тыс.руб.",{"$f":"#REF!","v":{"$error":"#REF!"}},{"$f":"SUM(E35:E39)","v":{"$error":"#REF!"}},{"$f":"#REF!","v":{"$error":"#REF!"}},{"$f":"ROUND(SUM(G35:G39),2)","v":{"$error":"#REF!"}}]
["4.1","Плата за землю","тыс.руб.",{"$f":"#REF!","v":{"$error":"#REF!"}},{"$f":"#REF!","v":{"$error":"#REF!"}},{"$f":"#REF!","v":{"$error":"#REF!"}},{"$f":"ROUND(#REF!,2)","v":{"$error":"#REF!"}}]
["4.2","Транспортный налог","тыс.руб.",{"$f":"#REF!","v":{"$error":"#REF!"}},{"$f":"#REF!","v":{"$error":"#REF!"}},{"$f":"#REF!","v":{"$error":"#REF!"}},{"$f":"ROUND(#REF!,2)","v":{"$error":"#REF!"}}]
["4.3","Налог на имущество","тыс.руб.",{"$f":"#REF!","v":{"$error":"#REF!"}},{"$f":"#REF!","v":{"$error":"#REF!"}},{"$f":"#REF!","v":{"$error":"#REF!"}},{"$f":"ROUND(#REF!,2)","v":{"$error":"#REF!"}}]
["4.4","Плата за негативное воздействие на окружающую среду","тыс.руб.",{"$f":"#REF!","v":{"$error":"#REF!"}},{"$f":"#REF!","v":{"$error":"#REF!"}},{"$f":"#REF!","v":{"$error":"#REF!"}},{"$f":"ROUND(#REF!,2)","v":{"$error":"#REF!"}}]
["4.5","Налог на прибыль","тыс.руб.",{"$f":"#REF!","v":{"$error":"#REF!"}},{"$f":"#REF!","v":{"$error":"#REF!"}},{"$f":"#REF!","v":{"$error":"#REF!"}},{"$f":"ROUND(#REF!,2)","v":{"$error":"#REF!"}}]
["5","Плата за аренду имущества","тыс.руб.",{"$f":"#REF!","v":{"$error":"#REF!"}},{"$f":"#REF!","v":{"$error":"#REF!"}},{"$f":"#REF!","v":{"$error":"#REF!"}},{"$f":"ROUND(#REF!,2)","v":{"$error":"#REF!"}}]
["6","Оплата услуг ОАО \"ФСК ЕЭС\"","тыс.руб.",{"$f":"#REF!","v":{"$error":"#REF!"}},{"$f":"#REF!","v":{"$error":"#REF!"}},{"$f":"#REF!","v":{"$error":"#REF!"}},{"$f":"ROUND(#REF!,2)","v":{"$error":"#REF!"}}]
["7","Прочие обоснованные неподконтрольные расходы","тыс.руб.",{"$f":"#REF!","v":{"$error":"#REF!"}},{"$f":"#REF!","v":{"$error":"#REF!"}},{"$f":"#REF!","v":{"$error":"#REF!"}},{"$f":"ROUND(#REF!,2)","v":{"$error":"#REF!"}}]
["8","Капитальные вложения производственного характера из прибыли","тыс.руб.",{"$f":"#REF!","v":{"$error":"#REF!"}},{"$f":"#REF!","v":{"$error":"#REF!"}},{"$f":"#REF!","v":{"$error":"#REF!"}},{"$f":"ROUND(#REF!,2)","v":{"$error":"#REF!"}}]
["9","Расходы, связанные с компенсацией выпадающих доходов от льготного технологического присоединения","тыс.руб.",{"$f":"#REF!","v":{"$error":"#REF!"}},"х",{"$f":"#REF!","v":{"$error":"#REF!"}},{"$f":"ROUND(#REF!,2)","v":{"$error":"#REF!"}}]
["10",{"$f":"#REF!","v":{"$error":"#REF!"}},"тыс.руб.",{"$f":"#REF!","v":{"$error":"#REF!"}},{"$f":"#REF!","v":{"$error":"#REF!"}},{"$f":"#REF!","v":{"$error":"#REF!"}},{"$f":"ROUND(#REF!,2)","v":{"$error":"#REF!"}}]
[null,"Итого НР:","тыс.руб.",{"$f":"SUM(D31:D34,D40:D45)","v":{"$error":"#REF!"}},{"$f":"SUM(E31:E34,E40:E45)","v":{"$error":"#REF!"}},{"$f":"SUM(F31:F34,F40:F45)","v":{"$error":"#REF!"}},{"$f":"SUM(G31:G34,G40:G45)","v":{"$error":"#REF!"}}]
[]
["Корректировка необходимой валовой выручки "]
["1","Корректировка подконтрольных расходов","тыс.руб.",{"$f":"#REF!","v":{"$error":"#REF!"}},{"$f":"#REF!","v":{"$error":"#REF!"}},{"$f":"#REF!","v":{"$error":"#REF!"}},{"$f":"#REF!","v":{"$error":"#REF!"}}]
["2","Корректировка неподконтрольных расходов","тыс.руб.",{"$f":"#REF!","v":{"$error":"#REF!"}},{"$f":"#REF!","v":{"$error":"#REF!"}},{"$f":"#REF!","v":{"$error":"#REF!"}},{"$f":"#REF!","v":{"$error":"#REF!"}}]
["3","Корректировка НВВ с учетом изменения полезного отпуска и цен на электрическую энергию ","тыс.руб.",{"$f":"#REF!","v":{"$error":"#REF!"}},{"$f":"#REF!","v":{"$error":"#REF!"}},{"$f":"#REF!","v":{"$error":"#REF!"}},{"$f":"#REF!","v":{"$error":"#REF!"}}]
["4","Корректировка необходимой валовой выручки по доходам от осуществления регулируемой деятельности","тыс.руб.",{"$f":"#REF!","v":{"$error":"#REF!"}},{"$f":"#REF!","v":{"$error":"#REF!"}},{"$f":"#REF!","v":{"$error":"#REF!"}},{"$f":"#REF!","v":{"$error":"#REF!"}}]
["5","Корректировка расходов по обеспечению коммерческого учета ээ ","тыс.руб.",{"$f":"#REF!","v":{"$error":"#REF!"}},{"$f":"#REF!","v":{"$error":"#REF!"}},{"$f":"#REF!","v":{"$error":"#REF!"}},{"$f":"#REF!","v":{"$error":"#REF!"}}]
["6","Корректировка НВВ в связи с изменением (неисполнением) инвестиционной программы ","тыс.руб.",{"$f":"#REF!","v":{"$error":"#REF!"}},{"$f":"#REF!","v":{"$error":"#REF!"}},{"$f":"#REF!","v":{"$error":"#REF!"}},{"$f":"#REF!","v":{"$error":"#REF!"}}]
[null,"Итого корректировка НВВ","тыс.руб.",{"$f":"SUM(D49:D54)","v":{"$error":"#REF!"}},"х",{"$f":"SUM(F49:F54)","v":{"$error":"#REF!"}},{"$f":"SUM(G49:G54)","v":{"$error":"#REF!"}}]
["Расходы организации на содержание сетей "]
[1,"Подконтрольные расходы","тыс.руб.",{"$f":"D29","v":{"$error":"#REF!"}},{"$f":"E29","v":{"$error":"#REF!"}},{"$f":"F29","v":{"$error":"#REF!"}},{"$f":"G29","v":{"$error":"#REF!"}}]
[2,"Неподконтрольные расходы","тыс.руб.",{"$f":"D46","v":{"$error":"#REF!"}},{"$f":"E46","v":{"$error":"#REF!"}},{"$f":"F46","v":{"$error":"#REF!"}},{"$f":"G46","v":{"$error":"#REF!"}}]
[3,"Корректировка НВВ на основании фактических данных ","тыс.руб.",{"$f":"D55","v":{"$error":"#REF!"}},{"$f":"E55","v":"х"},{"$f":"F55","v":{"$error":"#REF!"}},{"$f":"G55","v":{"$error":"#REF!"}}]
["4","Корректировка НВВ с учетом надежности и качества оказываемых услуг ","тыс.руб.",{"$f":"#REF!","v":{"$error":"#REF!"}},{"$f":"#REF!","v":{"$error":"#REF!"}},{"$f":"#REF!","v":{"$error":"#REF!"}},{"$f":"ROUND(#REF!,2)","v":{"$error":"#REF!"}}]
["5","Экономия расходов на оплату потерь электрической энергии","тыс.руб.","х","х",{"$f":"#REF!","v":{"$error":"#REF!"}},{"$f":"#REF!","v":{"$error":"#REF!"}}]
["6","Расходы по обеспечению коммерческого учета ээ","тыс.руб.","х","x","x",{"$f":"#REF!","v":{"$error":"#REF!"}}]
[null,"Итого расходы на содержание электрических сетей:","тыс.руб.",{"$f":"D57+D58+D59+D60","v":{"$error":"#REF!"}},{"$f":"E57+E58","v":{"$error":"#REF!"}},{"$f":"F57+F58+F59+F60+F61","v":{"$error":"#REF!"}},{"$f":"G57+G58+G59+G60+G61+G62","v":{"$error":"#REF!"}}]
["Расходы организации на компенсацию потерь"]
[1,"Величина технологического расхода (потерь) электрической энергии","млн.кВт.ч.",{"$f":"'Баланс энергии'!C18/1000","v":16.389200000000002},{"$f":"'Баланс энергии'!H18/1000","v":0},{"$f":"#REF!","v":{"$error":"#REF!"}},{"$f":"#REF!","v":{"$error":"#REF!"}}]
[2,"Прогнозная цена (тариф) покупки потерь электрической энергии","руб./МВт.ч.",{"$f":"#REF!","v":{"$error":"#REF!"}},{"$f":"#REF!","v":{"$error":"#REF!"}},{"$f":"#REF!","v":{"$error":"#REF!"}},{"$f":"#REF!","v":{"$error":"#REF!"}}]
[null,"Итого расходы на компенсацию потерь:","тыс.руб.",{"$f":"D65*D66","v":{"$error":"#REF!"}},{"$f":"E65*E66","v":{"$error":"#REF!"}},{"$f":"F65*F66","v":{"$error":"#REF!"}},{"$f":"G65*G66","v":{"$error":"#REF!"}}]
["Необходимая валовая выручка (НВВ) организации на оказание услуги по передаче электрической энергии"]
[1,"Расходы на содержание электрических сетей","тыс.руб.",{"$f":"D63","v":{"$error":"#REF!"}},{"$f":"E63","v":{"$error":"#REF!"}},{"$f":"F63","v":{"$error":"#REF!"}},{"$f":"G63","v":{"$error":"#REF!"}}]
[2,"Расходы на компенсацию потерь","тыс.руб.",{"$f":"D67","v":{"$error":"#REF!"}},{"$f":"E67","v":{"$error":"#REF!"}},{"$f":"F67","v":{"$error":"#REF!"}},{"$f":"G67","v":{"$error":"#REF!"}}]
[null,"Необходимая валовая выручка (НВВ) организации на оказание услуги по передаче электрической энергии","тыс.руб.",{"$f":"D69+D70","v":{"$error":"#REF!"}},{"$f":"E69+E70","v":{"$error":"#REF!"}},{"$f":"F69+F70","v":{"$error":"#REF!"}},{"$f":"G69+G70","v":{"$error":"#REF!"}}]

{"sheet":"НВВ для шаблона ЕИАС отчет","index":7,"n_rows":11,"n_cols":71,"rows_kept":11,"cut":false,"hidden":true,"merged":[[2,51,3,51],[2,52,3,52],[2,44,3,44],[2,45,3,45],[2,46,3,46],[2,47,3,47],[2,48,3,48],[2,49,3,49],[1,68,3,68],[1,69,3,69],[1,70,3,70],[2,2,3,2],[2,3,3,3],[2,4,3,4],[2,5,3,5],[2,6,3,6],[2,7,3,7],[2,8,3,8],[1,61,3,61],[1,62,3,62],[1,63,3,63],[1,64,2,65],[1,66,3,66],[2,13,3,13],[2,23,3,23],[1,67,3,67],[1,54,3,54],[1,55,2,56],[1,57,3,57],[1,58,3,58],[1,59,3,59],[1,60,3,60],[2,36,3,36],[2,37,3,37],[2,38,3,38],[2,39,3,39],[2,40,3,40],[2,41,3,41],[2,42,3,42],[2,50,3,50],[2,34,2,35],[1,0,4,0],[1,1,4,1],[1,2,1,11],[1,12,1,32],[1,33,1,52],[2,18,3,18],[2,14,3,14],[2,15,3,15],[2,16,3,16],[2,17,3,17],[2,30,3,30],[2,19,3,19],[2,20,3,20],[2,21,3,21],[2,22,3,22],[6,0,10,0],[1,53,3,53],[2,9,3,9],[2,10,3,10],[2,11,3,11],[2,12,3,12],[2,24,3,24],[2,25,3,25],[2,26,3,26],[2,27,3,27],[2,28,3,28],[2,29,3,29],[2,43,3,43],[2,31,3,31],[2,32,3,32],[2,33,3,33]]}
[" "]
["Наименование организации","Период","Расчет коэффициента индексации",null,null,null,null,null,null,null,null,null,"Расчет подконтрольных расходов",null,null,null,null,null,null,null,null,null,null,null,null,null,null,null,null,null,null,null,null,"Расчет неподконтрольных расходов",null,null,null,null,null,null,null,null,null,null,null,null,null,null,null,null,null,null,null,"Расходы, связанные с компенсацией незапланированных расходов или полученного избытка","Итого НВВ на содержание сетей","в том числе",null,"Доля стороннего отпуска в сеть от организаций, занимающихся несколькими видами деятельности (без собственных нужд)","Отношение НВВ на содержание сетей текущего года к предыдущему года","Поступление в сеть электроэнергии","Объем технологического расхода (потерь)","Тариф на покупку потерь ","Норматив техноло-гического расхода (потерь) электро-энергии ","Итого расходов на оплату потерь","в том числе",null,"Прирост расходов на оплату потерь текущего года к предыдущему году","Поступление в сеть мощности","Уровень надежности реализуемых товаров (услуг) \n(П п)","Уровень качества реализуемых товаров (услуг) \n(П тсо)","Уровень качества реализуемых товаров (услуг)\n(П тпр)"]
[null,null,"Инфляция","Индекс эффективности операционных расходов","Количество активов, всего","ВН","СН1","СН2","НН","Индекс изменения количества активов","Коэффициент эластичности затрат по росту активов","Итого коэффициент индексации","Материальные затраты","Сырье, материалы, запасные части, инструмент, топливо","Работы и услуги производственного характера (в т.ч. услуги сторонних организаций по содержанию сетей и распределительных устройств)","Расходы на оплату труда","Прочие расходы, всего, в том числе:","Ремонт основных фондов","Оплата работ и услуг сторонних организаций","услуги связи","Расходы на услуги вневедомственной охраны и коммунального хозяйства","Расходы на юридические и информационные услуги","Расходы на аудиторские и консультационные услуги","Транспортные услуги","Прочие услуги сторонних организаций","Расходы на командировки и представительские","Расходы на подготовку кадров","Расходы на обеспечение нормальных условий труда и мер по технике безопасности","Расходы на страхование","Другие прочие расходы","Электроэнергия на хоз. нужды","Подконтрольные расходы из прибыли","ИТОГО подконтрольные расходы","Оплата услуг ОАО \"ФСК ЕЭС\"","в том числе",null,"Теплоэнергия","Аренда, всего","в том числе аренда объектов электро-\nсетевого комплекса","Налоги (без учета налога на прибыль), всего, в том числе:","плата за землю","Налог на имущество","Прочие налоги и сборы","Отчисления на социальные нужды (ЕСН)","Прочие неподконтрольные расходы","Налог на прибыль, в том числе:","налог на прибыль на капитальные вложения ","Выпадающие доходы по п.87 Основ ценообразования","Амортизация ОС","Прибыль на капитальные вложения","Возврат заемных средств, направляемый на финансирование капитальных вложений","Проверка прибыли на капитальные вложения (не более 12% от НВВ на содержание сетей)","ИТОГО неподконтрольных расходов"]
[null,null,null,null,null,null,null,null,null,null,null,null,null,null,null,null,null,null,null,null,null,null,null,null,null,null,null,null,null,null,null,null,null,null,"Оплата услуг ОАО \"ФСК ЕЭС\"\n1 полугодие","Оплата услуг ОАО \"ФСК ЕЭС\"\n2 полугодие",null,null,null,null,null,null,null,null,null,null,null,null,null,null,null,null,null,null,null,"НВВ на 1 полугодие","НВВ на 2 полугодие",null,null,null,null,null,null,null,"расходы на 1 полугодие","расходы на 2 полугодие"]
[null,null,"%","%","у.е.","у.е.","у.е.","у.е.","у.е.","%",null,null,"тыс.руб","тыс.руб","тыс.руб","тыс.руб","тыс.руб","тыс.руб","тыс.руб","тыс.руб","тыс.руб","тыс.руб","тыс.руб","тыс.руб","тыс.руб","тыс.руб","тыс.руб","тыс.руб","тыс.руб","тыс.руб","тыс.руб","тыс.руб","тыс.руб","тыс.руб","тыс.руб","тыс.руб","тыс.руб","тыс.руб","тыс.руб","тыс.руб","тыс.руб","тыс.руб","тыс.руб","тыс.руб","тыс.руб","тыс.руб","тыс.руб","тыс.руб","тыс.руб","тыс.руб","тыс.руб","%","тыс.руб","тыс.руб","тыс.руб","тыс.руб","тыс.руб","%","%","млн.кВтч","млн.кВтч","руб./МВтч","%","тыс.руб","тыс.руб","тыс.руб","%","МВт"]
["А","Б","0.1","0.2","0.3","0.3.1","0.3.2","0.3.3","0.3.4","0.4","0.5","0.6","1.1","1.1.1","1.1.2","1.2","1.3","1.3.1","1.3.2","1.3.2.1","1.3.2.2","1.3.2.3","1.3.2.4","1.3.2.5","1.3.2.6","1.3.3","1.3.4","1.3.5","1.3.6","1.3.7","1.4","1.5","1.6","2.1","2.1.1","2.1.2","2.2","2.3","2.3.1","2.4","2.4.1","2.4.2","2.4.3","2.5","2.6","2.7","2.7.1","2.8","2.9","2.10","2.11","2.12","2.13","3","4","4.1","4.2","5","6","7","8","9","10","11","11.1","11.2","12","13","14","15.1","15.2"]
[{"$f":"#REF!","v":{"$error":"#REF!"}},2020,null,{"$f":"#REF!","v":{"$error":"#REF!"}},{"$f":"SUM(F7:I7)","v":0},null,null,null,null,null,0.75,null,{"$f":"SUM(N7:O7)","v":{"$error":"#REF!"}},{"$f":"#REF!","v":{"$error":"#REF!"}},{"$f":"#REF!","v":{"$error":"#REF!"}},{"$f":"#REF!","v":{"$error":"#REF!"}},{"$f":"R7+S7+Z7+AA7+AB7+AC7+AD7+AC7+AF7","v":{"$error":"#REF!"}},{"$f":"#REF!","v":{"$error":"#REF!"}},{"$f":"SUM(T7:Y7)","v":{"$error":"#REF!"}},null,null,null,null,null,{"$f":"#REF!","v":{"$error":"#REF!"}},{"$f":"#REF!","v":{"$error":"#REF!"}},{"$f":"#REF!","v":{"$error":"#REF!"}},{"$f":"#REF!","v":{"$error":"#REF!"}},{"$f":"#REF!+#REF!","v":{"$error":"#REF!"}},null,{"$f":"#REF!","v":{"$error":"#REF!"}},{"$f":"#REF!","v":{"$error":"#REF!"}},{"$f":"M7+P7+Q7","v":{"$error":"#REF!"}},{"$f":"#REF!","v":{"$error":"#REF!"}},{"$f":"AH7/2","v":{"$error":"#REF!"}},{"$f":"AI7","v":{"$error":"#REF!"}},{"$f":"#REF!","v":{"$error":"#REF!"}},{"$f":"#REF!","v":{"$error":"#REF!"}},{"$f":"#REF!","v":{"$error":"#REF!"}},{"$f":"SUM(AO7:AQ7)","v":{"$error":"#REF!"}},{"$f":"#REF!","v":{"$error":"#REF!"}},{"$f":"#REF!","v":{"$error":"#REF!"}},{"$f":"#REF!+#REF!","v":{"$error":"#REF!"}},{"$f":"#REF!","v":{"$error":"#REF!"}},{"$f":"#REF!","v":{"$error":"#REF!"}},{"$f":"#REF!","v":{"$error":"#REF!"}},{"$f":"AX7/0.8*0.2","v":{"$error":"#REF!"}},{"$f":"#REF!","v":{"$error":"#REF!"}},{"$f":"#REF!","v":{"$error":"#REF!"}},{"$f":"#REF!","v":{"$error":"#REF!"}},{"$f":"#REF!","v":{"$error":"#REF!"}},{"$f":"AX7/0.8*0.2","v":{"$error":"#REF!"}},{"$f":"#REF!","v":{"$error":"#REF!"}},{"$f":"#REF!","v":{"$error":"#REF!"}},{"$f":"#REF!","v":{"$error":"#REF!"}},{"$f":"#REF!","v":{"$error":"#REF!"}},null,null,null,{"$f":"'НВВ для шаблона ЕИАС предел'!BH7","v":138485.13798267109},{"$f":"'Баланс энергии'!AG18","v":0},null,{"$f":"IF(BH7=0,0,BI7/BH7)","v":0},{"$f":"BI7*BJ7","v":0},{"$f":"#REF!","v":{"$error":"#REF!"}},{"$f":"BL7-BM7","v":{"$error":"#REF!"}},null,null,{"$f":"'НВВ по данным экспертов'!F13","v":1.4460999999999999},{"$f":"'НВВ по данным экспертов'!F14","v":0.7853},{"$f":"'НВВ по данным экспертов'!F15","v":1}]
[null,2021,{"$f":"#REF!","v":{"$error":"#REF!"}},{"$f":"D7","v":{"$error":"#REF!"}},{"$f":"SUM(F8:I8)","v":{"$error":"#REF!"}},{"$f":"#REF!","v":{"$error":"#REF!"}},{"$f":"#REF!","v":{"$error":"#REF!"}},{"$f":"#REF!","v":{"$error":"#REF!"}},{"$f":"#REF!","v":{"$error":"#REF!"}},{"$f":"IF(E7=0,0,(E8-E7)/E7*K8)","v":0},0.75,{"$f":"(1+C8)*(1-D8)*(1+J8)","v":{"$error":"#REF!"}},{"$f":"SUM(N8:O8)","v":{"$error":"#REF!"}},{"$f":"N7*$L8","v":{"$error":"#REF!"}},{"$f":"O7*L8","v":{"$error":"#REF!"}},{"$f":"P7*$L8","v":{"$error":"#REF!"}},{"$f":"R8+S8+Z8+AA8+AB8+AC8+AD8+AE8+AF8","v":{"$error":"#REF!"}},{"$f":"R7*$L8","v":{"$error":"#REF!"}},{"$f":"SUM(T8:Y8)","v":{"$error":"#REF!"}},{"$f":"T7*$L8","v":{"$error":"#REF!"}},{"$f":"U7*L8","v":{"$error":"#REF!"}},{"$f":"V7*L8","v":{"$error":"#REF!"}},{"$f":"W7*$L8","v":{"$error":"#REF!"}},{"$f":"X7*$L8","v":{"$error":"#REF!"}},{"$error":"#REF!"},{"$error":"#REF!"},{"$error":"#REF!"},{"$error":"#REF!"},{"$error":"#REF!"},{"$error":"#REF!"},{"$error":"#REF!"},{"$error":"#REF!"},{"$f":"M8+P8+Q8","v":{"$error":"#REF!"}},{"$f":"#REF!","v":{"$error":"#REF!"}},{"$f":"AH8/2","v":{"$error":"#REF!"}},{"$f":"AI8","v":{"$error":"#REF!"}},{"$f":"'НВВ по данным экспертов'!$G$33","v":{"$error":"#REF!"}},{"$f":"'НВВ по данным экспертов'!$G$40","v":{"$error":"#REF!"}},null,{"$f":"SUM(AO8:AQ8)","v":{"$error":"#REF!"}},{"$f":"'НВВ по данным экспертов'!$G$35","v":{"$error":"#REF!"}},{"$f":"'НВВ по данным экспертов'!$G$37","v":{"$error":"#REF!"}},{"$f":"#REF!+#REF!","v":{"$error":"#REF!"}},{"$f":"#REF!","v":{"$error":"#REF!"}},{"$f":"#REF!","v":{"$error":"#REF!"}},{"$f":"#REF!","v":{"$error":"#REF!"}},{"$f":"AX7/0.8*0.2","v":{"$error":"#REF!"}},{"$f":"#REF!","v":{"$error":"#REF!"}},{"$f":"#REF!","v":{"$error":"#REF!"}},{"$f":"#REF!","v":{"$error":"#REF!"}},{"$f":"#REF!","v":{"$error":"#REF!"}},{"$f":"nerr((AX8+AY8)/(BC8-AH8-AU8-AX8-AY8-AM8))","v":{"$error":"#NAME?"}},{"$f":"AH8+AK8+AL8+AN8+AS8+AT8+AV8+AR8+AW8+AX8+AY8","v":{"$error":"#REF!"}},{"$f":"#REF!","v":{"$error":"#REF!"}},{"$f":"SUM(BA8,BB8,AG8)","v":{"$error":"#REF!"}},null,null,{"$f":"nerr((BD8+BE8)/BC8)","v":{"$error":"#NAME?"}},{"$f":"nerr((BC8-BC7)/BC7)","v":{"$error":"#NAME?"}},{"$f":"'Баланс энергии'!AG8","v":0},{"$f":"BI7","v":0},null,{"$f":"IF(BH8=0,0,BI8/BH8)","v":0},{"$f":"BI8*BJ8","v":0},{"$f":"'НВВ по данным экспертов'!#REF!/2","v":{"$error":"#REF!"}},{"$f":"BL8-BM8","v":{"$error":"#REF!"}},{"$f":"nerr((BL8-BL7)/BL7)","v":{"$error":"#NAME?"}},null,{"$f":"'НВВ по данным экспертов'!G13","v":1.4244000000000001},{"$f":"'НВВ по данным экспертов'!G14","v":0.69289999999999996},{"$f":"'НВВ по данным экспертов'!G15","v":1}]
[null,2022,null,{"$f":"D8","v":{"$error":"#REF!"}},{"$f":"SUM(F9:I9)","v":{"$error":"#REF!"}},{"$f":"#REF!","v":{"$error":"#REF!"}},{"$f":"#REF!","v":{"$error":"#REF!"}},{"$f":"#REF!","v":{"$error":"#REF!"}},{"$f":"#REF!","v":{"$error":"#REF!"}},{"$f":"IF(E8=0,0,(E9-E8)/E8*K9)","v":{"$error":"#REF!"}},0.75,{"$f":"(1+C9)*(1-D9)*(1+J9)","v":{"$error":"#REF!"}},{"$f":"SUM(N9:O9)","v":{"$error":"#REF!"}},{"$f":"N8*$L9","v":{"$error":"#REF!"}},{"$f":"O8*L9","v":{"$error":"#REF!"}},{"$f":"P8*$L9","v":{"$error":"#REF!"}},{"$f":"R9+S9+Z9+AA9+AB9+AC9+AD9+AE9+AF9","v":{"$error":"#REF!"}},{"$f":"R8*$L9","v":{"$error":"#REF!"}},{"$f":"SUM(T9:Y9)","v":{"$error":"#REF!"}},{"$f":"T8*$L9","v":{"$error":"#REF!"}},{"$f":"U8*L9","v":{"$error":"#REF!"}},{"$f":"V8*L9","v":{"$error":"#REF!"}},{"$f":"W8*$L9","v":{"$error":"#REF!"}},{"$error":"#REF!"},{"$error":"#REF!"},{"$error":"#REF!"},{"$error":"#REF!"},{"$error":"#REF!"},{"$error":"#REF!"},{"$error":"#REF!"},{"$error":"#REF!"},{"$error":"#REF!"},{"$f":"M9+P9+Q9","v":{"$error":"#REF!"}},{"$f":"AI9+AJ9","v":{"$error":"#REF!"}},{"$f":"#REF!","v":{"$error":"#REF!"}},{"$f":"#REF!","v":{"$error":"#REF!"}},null,null,null,{"$f":"SUM(AO9:AQ9)","v":0},null,null,null,null,null,null,null,null,null,null,null,{"$f":"nerr((AX9+AY9)/(BC9-AH9-AU9-AX9-AY9-AM9))","v":{"$error":"#NAME?"}},{"$f":"AH9+AK9+AL9+AN9+AS9+AT9+AV9+AR9+AW9+AX9+AY9","v":{"$error":"#REF!"}},null,{"$f":"SUM(BA9,BB9,AG9)","v":{"$error":"#REF!"}},null,null,{"$f":"nerr((BD9+BE9)/BC9)","v":{"$error":"#NAME?"}},{"$f":"nerr((BC9-BC8)/BC8)","v":{"$error":"#NAME?"}},null,{"$f":"BI8","v":0},null,{"$f":"IF(BH9=0,0,BI9/BH9)","v":0},{"$f":"BI9*BJ9","v":0},{"$f":"'НВВ по данным экспертов'!#REF!/2","v":{"$error":"#REF!"}},{"$f":"BL9-BM9","v":{"$error":"#REF!"}},{"$f":"nerr((BL9-BL8)/BL8)","v":{"$error":"#NAME?"}}]
[null,2023,null,{"$f":"D9","v":{"$error":"#REF!"}},{"$f":"SUM(F10:I10)","v":0},null,null,null,null,{"$f":"IF(E9=0,0,(E10-E9)/E9*K10)","v":{"$error":"#REF!"}},0.75,{"$f":"(1+C10)*(1-D10)*(1+J10)","v":{"$error":"#REF!"}},{"$f":"SUM(N10:O10)","v":{"$error":"#REF!"}},{"$f":"N9*$L10","v":{"$error":"#REF!"}},{"$f":"O9*L10","v":{"$error":"#REF!"}},{"$f":"P9*$L10","v":{"$error":"#REF!"}},{"$f":"R10+S10+Z10+AA10+AB10+AC10+AD10+AE10+AF10","v":{"$error":"#REF!"}},{"$f":"R9*$L10","v":{"$error":"#REF!"}},{"$f":"SUM(T10:Y10)","v":{"$error":"#REF!"}},{"$f":"T9*$L10","v":{"$error":"#REF!"}},{"$f":"U9*L10","v":{"$error":"#REF!"}},{"$f":"V9*L10","v":{"$error":"#REF!"}},{"$f":"W9*$L10","v":{"$error":"#REF!"}},{"$error":"#REF!"},{"$error":"#REF!"},{"$error":"#REF!"},{"$error":"#REF!"},{"$error":"#REF!"},{"$error":"#REF!"},{"$error":"#REF!"},{"$error":"#REF!"},{"$error":"#REF!"},{"$f":"M10+P10+Q10","v":{"$error":"#REF!"}},{"$f":"AI10+AJ10","v":0},null,null,null,null,null,{"$f":"SUM(AO10:AQ10)","v":0},null,null,null,null,null,null,null,null,null,null,null,{"$f":"nerr((AX10+AY10)/(BC10-AH10-AU10-AX10-AY10-AM10))","v":{"$error":"#NAME?"}},{"$f":"AH10+AK10+AL10+AN10+AS10+AT10+AV10+AR10+AW10+AX10+AY10","v":0},null,{"$f":"SUM(BA10,BB10,AG10)","v":{"$error":"#REF!"}},null,null,{"$f":"nerr((BD10+BE10)/BC10)","v":{"$error":"#NAME?"}},{"$f":"nerr((BC10-BC9)/BC9)","v":{"$error":"#NAME?"}},null,{"$f":"BI9","v":0},null,{"$f":"IF(BH10=0,0,BI10/BH10)","v":0},{"$f":"BI10*BJ10","v":0},{"$f":"'НВВ по данным экспертов'!#REF!/2","v":{"$error":"#REF!"}},{"$f":"BL10-BM10","v":{"$error":"#REF!"}},{"$f":"nerr((BL10-BL9)/BL9)","v":{"$error":"#NAME?"}}]
[null,2024,null,{"$f":"D10","v":{"$error":"#REF!"}},{"$f":"SUM(F11:I11)","v":0},null,null,null,null,{"$f":"IF(E10=0,0,(E11-E10)/E10*K11)","v":0},0.75,{"$f":"(1+C11)*(1-D11)*(1+J11)","v":{"$error":"#REF!"}},{"$f":"SUM(N11:O11)","v":{"$error":"#REF!"}},{"$f":"N10*$L11","v":{"$error":"#REF!"}},{"$f":"O10*L11","v":{"$error":"#REF!"}},{"$f":"P10*$L11","v":{"$error":"#REF!"}},{"$f":"R11+S11+Z11+AA11+AB11+AC11+AD11+AE11+AF11","v":{"$error":"#REF!"}},{"$f":"R10*$L11","v":{"$error":"#REF!"}},{"$f":"SUM(T11:Y11)","v":{"$error":"#REF!"}},{"$f":"T10*$L11","v":{"$error":"#REF!"}},{"$f":"U10*L11","v":{"$error":"#REF!"}},{"$f":"V10*L11","v":{"$error":"#REF!"}},{"$f":"W10*$L11","v":{"$error":"#REF!"}},{"$error":"#REF!"},{"$error":"#REF!"},{"$error":"#REF!"},{"$error":"#REF!"},{"$error":"#REF!"},{"$error":"#REF!"},{"$error":"#REF!"},{"$error":"#REF!"},{"$error":"#REF!"},{"$f":"M11+P11+Q11","v":{"$error":"#REF!"}},{"$f":"AI11+AJ11","v":0},null,null,null,null,null,{"$f":"SUM(AO11:AQ11)","v":0},null,null,null,null,null,null,null,null,null,null,null,{"$f":"((AX11+AY11)/(BC11-AH11-AU11-AX11-AY11-AM11))","v":{"$error":"#REF!"}},{"$f":"AH11+AK11+AL11+AN11+AS11+AT11+AV11+AR11+AW11+AX11+AY11","v":0},null,{"$f":"SUM(BA11,BB11,AG11)","v":{"$error":"#REF!"}},null,null,{"$f":"((BD11+BE11)/BC11)","v":{"$error":"#REF!"}},{"$f":"nerr((BC11-BC10)/BC10)","v":{"$error":"#NAME?"}},null,{"$f":"BI10","v":0},null,{"$f":"IF(BH11=0,0,BI11/BH11)","v":0},{"$f":"BI11*BJ11","v":0},{"$f":"'НВВ по данным экспертов'!#REF!/2","v":{"$error":"#REF!"}},{"$f":"BL11-BM11","v":{"$error":"#REF!"}},{"$f":"nerr((BL11-BL10)/BL10)","v":{"$error":"#NAME?"}}]

{"sheet":"НВВ для шаблона ЕИАС предел","index":8,"n_rows":11,"n_cols":71,"rows_kept":11,"cut":false,"hidden":true,"merged":[[2,41,3,41],[2,42,3,42],[2,50,3,50],[2,51,3,51],[2,52,3,52],[2,44,3,44],[2,45,3,45],[2,46,3,46],[2,47,3,47],[2,48,3,48],[2,49,3,49],[2,36,3,36],[2,37,3,37],[2,38,3,38],[2,39,3,39],[2,40,3,40],[1,68,3,68],[1,69,3,69],[1,70,3,70],[2,2,3,2],[2,3,3,3],[2,4,3,4],[2,5,3,5],[2,6,3,6],[2,7,3,7],[2,8,3,8],[1,61,3,61],[1,62,3,62],[1,63,3,63],[1,64,2,65],[1,66,3,66],[2,13,3,13],[1,67,3,67],[1,54,3,54],[1,55,2,56],[1,57,3,57],[1,58,3,58],[1,59,3,59],[1,60,3,60],[1,0,4,0],[1,1,4,1],[1,2,1,11],[1,12,1,32],[1,33,1,52],[2,18,3,18],[2,14,3,14],[2,15,3,15],[2,16,3,16],[2,17,3,17],[2,30,3,30],[2,19,3,19],[2,20,3,20],[2,21,3,21],[2,22,3,22],[2,23,3,23],[1,53,3,53],[2,9,3,9],[2,10,3,10],[2,11,3,11],[2,12,3,12],[2,24,3,24],[2,25,3,25],[2,26,3,26],[2,27,3,27],[2,28,3,28],[2,29,3,29],[2,43,3,43],[2,31,3,31],[2,32,3,32],[2,33,3,33],[2,34,2,35]]}
[" "]
["Наименование организации","Период","Расчет коэффициента индексации",null,null,null,null,null,null,null,null,null,"Расчет подконтрольных расходов",null,null,null,null,null,null,null,null,null,null,null,null,null,null,null,null,null,null,null,null,"Расчет неподконтрольных расходов",null,null,null,null,null,null,null,null,null,null,null,null,null,null,null,null,null,null,null,"Расходы, связанные с компенсацией незапланированных расходов или полученного избытка","Итого НВВ на содержание сетей","в том числе",null,"Доля стороннего отпуска в сеть от организаций, занимающихся несколькими видами деятельности (без собственных нужд)","Отношение НВВ на содержание сетей текущего года к предыдущему года","Поступление в сеть электроэнергии","Объем технологического расхода (потерь)","Тариф на покупку потерь ","Норматив техноло-гического расхода (потерь) электро-энергии ","Итого расходов на оплату потерь","в том числе",null,"Прирост расходов на оплату потерь текущего года к предыдущему году","Поступление в сеть мощности","Уровень надежности реализуемых товаров (услуг) \n(П п)","Уровень качества реализуемых товаров (услуг) \n(П тсо)","Уровень качества реализуемых товаров (услуг)\n(П тпр)"]
[null,null,"Инфляция","Индекс эффективности операционных расходов","Количество активов, всего","ВН","СН1","СН2","НН","Индекс изменения количества активов","Коэффициент эластичности затрат по росту активов","Итого коэффициент индексации","Материальные затраты","Сырье, материалы, запасные части, инструмент, топливо","Работы и услуги производственного характера (в т.ч. услуги сторонних организаций по содержанию сетей и распределительных устройств)","Расходы на оплату труда","Прочие расходы, всего, в том числе:","Ремонт основных фондов","Оплата работ и услуг сторонних организаций","услуги связи","Расходы на услуги вневедомственной охраны и коммунального хозяйства","Расходы на юридические и информационные услуги","Расходы на аудиторские и консультационные услуги","Транспортные услуги","Прочие услуги сторонних организаций","Расходы на командировки и представительские","Расходы на подготовку кадров","Расходы на обеспечение нормальных условий труда и мер по технике безопасности","Расходы на страхование","Другие прочие расходы","Электроэнергия на хоз. нужды","Подконтрольные расходы из прибыли","ИТОГО подконтрольные расходы","Оплата услуг ОАО \"ФСК ЕЭС\"","в том числе",null,"Теплоэнергия","Аренда, всего","в том числе аренда объектов электро-\nсетевого комплекса","Налоги (без учета налога на прибыль), всего, в том числе:","плата за землю","Налог на имущество","Прочие налоги и сборы","Отчисления на социальные нужды (ЕСН)","Прочие неподконтрольные расходы","Налог на прибыль, в том числе:","налог на прибыль на капитальные вложения ","Выпадающие доходы по п.87 Основ ценообразования","Амортизация ОС","Прибыль на капитальные вложения","Возврат заемных средств, направляемый на финансирование капитальных вложений","Проверка прибыли на капитальные вложения (не более 12% от НВВ на содержание сетей)","ИТОГО неподконтрольных расходов"]
[null,null,null,null,null,null,null,null,null,null,null,null,null,null,null,null,null,null,null,null,null,null,null,null,null,null,null,null,null,null,null,null,null,null,"Оплата услуг ОАО \"ФСК ЕЭС\"\n1 полугодие","Оплата услуг ОАО \"ФСК ЕЭС\"\n2 полугодие",null,null,null,null,null,null,null,null,null,null,null,null,null,null,null,null,null,null,null,"НВВ на 1 полугодие","НВВ на 2 полугодие",null,null,null,null,null,null,null,"расходы на 1 полугодие","расходы на 2 полугодие"]
[null,null,"%","%","у.е.","у.е.","у.е.","у.е.","у.е.","%",null,null,"тыс.руб","тыс.руб","тыс.руб","тыс.руб","тыс.руб","тыс.руб","тыс.руб","тыс.руб","тыс.руб","тыс.руб","тыс.руб","тыс.руб","тыс.руб","тыс.руб","тыс.руб","тыс.руб","тыс.руб","тыс.руб","тыс.руб","тыс.руб","тыс.руб","тыс.руб","тыс.руб","тыс.руб","тыс.руб","тыс.руб","тыс.руб","тыс.руб","тыс.руб","тыс.руб","тыс.руб","тыс.руб","тыс.руб","тыс.руб","тыс.руб","тыс.руб","тыс.руб","тыс.руб","тыс.руб","%","тыс.руб","тыс.руб","тыс.руб","тыс.руб","тыс.руб","%","%","млн.кВтч","млн.кВтч","руб./МВтч","%","тыс.руб","тыс.руб","тыс.руб","%","МВт"]
["А","Б","0.1","0.2","0.3","0.3.1","0.3.2","0.3.3","0.3.4","0.4","0.5","0.6","1.1","1.1.1","1.1.2","1.2","1.3","1.3.1","1.3.2","1.3.2.1","1.3.2.2","1.3.2.3","1.3.2.4","1.3.2.5","1.3.2.6","1.3.3","1.3.4","1.3.5","1.3.6","1.3.7","1.4","1.5","1.6","2.1","2.1.1","2.1.2","2.2","2.3","2.3.1","2.4","2.4.1","2.4.2","2.4.3","2.5","2.6","2.7","2.7.1","2.8","2.9","2.10","2.11","2.12","2.13","3","4","4.1","4.2","5","6","7","8","9","10","11","11.1","11.2","12","13","14","15.1","15.2"]
[null,2020,{"$f":"#REF!","v":{"$error":"#REF!"}},{"$f":"#REF!","v":{"$error":"#REF!"}},{"$f":"SUM(F7:I7)","v":{"$error":"#REF!"}},{"$f":"#REF!","v":{"$error":"#REF!"}},{"$f":"#REF!","v":{"$error":"#REF!"}},{"$f":"#REF!","v":{"$error":"#REF!"}},{"$f":"#REF!","v":{"$error":"#REF!"}},null,null,null,{"$f":"SUM(N7:O7)","v":{"$error":"#REF!"}},{"$f":"#REF!","v":{"$error":"#REF!"}},{"$f":"#REF!","v":{"$error":"#REF!"}},{"$f":"#REF!","v":{"$error":"#REF!"}},{"$f":"R7+S7+Z7+AA7+AB7+AC7+AD7+AE7+AF7","v":{"$error":"#REF!"}},{"$f":"#REF!","v":{"$error":"#REF!"}},{"$f":"SUM(T7:Y7)","v":0},null,null,null,null,null,null,{"$f":"#REF!","v":{"$error":"#REF!"}},{"$f":"#REF!","v":{"$error":"#REF!"}},{"$f":"#REF!","v":{"$error":"#REF!"}},{"$f":"#REF!","v":{"$error":"#REF!"}},{"$f":"#REF!+#REF!","v":{"$error":"#REF!"}},null,{"$f":"#REF!","v":{"$error":"#REF!"}},{"$f":"M7+P7+Q7","v":{"$error":"#REF!"}},{"$f":"#REF!","v":{"$error":"#REF!"}},{"$f":"AH7/2","v":{"$error":"#REF!"}},{"$f":"AI7","v":{"$error":"#REF!"}},{"$f":"#REF!","v":{"$error":"#REF!"}},{"$f":"#REF!","v":{"$error":"#REF!"}},{"$f":"#REF!","v":{"$error":"#REF!"}},{"$f":"SUM(AO7:AQ7)","v":{"$error":"#REF!"}},{"$f":"#REF!","v":{"$error":"#REF!"}},{"$f":"#REF!","v":{"$error":"#REF!"}},{"$f":"#REF!+#REF!","v":{"$error":"#REF!"}},{"$f":"#REF!","v":{"$error":"#REF!"}},{"$f":"#REF!","v":{"$error":"#REF!"}},{"$f":"#REF!","v":{"$error":"#REF!"}},{"$f":"AX7/0.8*0.2","v":{"$error":"#REF!"}},{"$f":"#REF!","v":{"$error":"#REF!"}},{"$f":"#REF!","v":{"$error":"#REF!"}},{"$f":"#REF!","v":{"$error":"#REF!"}},{"$f":"#REF!","v":{"$error":"#REF!"}},null,{"$f":"AH7+AK7+AL7+AN7+AS7+AT7+AV7+AR7+AW7+AX7+AY7","v":{"$error":"#REF!"}},{"$f":"#REF!+#REF!","v":{"$error":"#REF!"}},{"$f":"SUM(BA7,BB7,AG7)","v":{"$error":"#REF!"}},null,null,null,null,{"$f":"'Баланс энергии'!M8","v":138485.13798267109},{"$f":"'Баланс энергии'!M18","v":16064.3},null,{"$f":"IF(BH7=0,0,BI7/BH7)","v":0.11600017326054263},{"$f":"BI7*BJ7","v":0},{"$f":"#REF!","v":{"$error":"#REF!"}},{"$f":"BL7-BM7","v":{"$error":"#REF!"}},null,{"$f":"'Баланс мощности'!H9","v":0},{"$f":"#REF!","v":{"$error":"#REF!"}},{"$f":"#REF!","v":{"$error":"#REF!"}},{"$f":"#REF!","v":{"$error":"#REF!"}}]
[null,2021,{"$f":"#REF!","v":{"$error":"#REF!"}},{"$f":"D7","v":{"$error":"#REF!"}},{"$f":"#REF!","v":{"$error":"#REF!"}},{"$f":"#REF!","v":{"$error":"#REF!"}},{"$f":"#REF!","v":{"$error":"#REF!"}},{"$f":"#REF!","v":{"$error":"#REF!"}},{"$f":"#REF!","v":{"$error":"#REF!"}},{"$f":"IF(E7=0,0,(E8-E7)/E7*K8)","v":{"$error":"#REF!"}},0.75,{"$f":"(1+C8)*(1-D8)*(1+J8)","v":{"$error":"#REF!"}},{"$f":"SUM(N8:O8)","v":{"$error":"#REF!"}},{"$f":"N7*$L8","v":{"$error":"#REF!"}},{"$f":"O7*L8","v":{"$error":"#REF!"}},{"$f":"P7*$L8","v":{"$error":"#REF!"}},{"$f":"R8+S8+Z8+AA8+AB8+AC8+AD8+AE8+AF8","v":{"$error":"#REF!"}},{"$f":"R7*$L8","v":{"$error":"#REF!"}},{"$f":"SUM(T8:Y8)","v":{"$error":"#REF!"}},{"$f":"T7*$L8","v":{"$error":"#REF!"}},{"$f":"U7*L8","v":{"$error":"#REF!"}},{"$f":"V7*L8","v":{"$error":"#REF!"}},{"$f":"W7*$L8","v":{"$error":"#REF!"}},{"$f":"X7*$L8","v":{"$error":"#REF!"}},{"$error":"#REF!"},{"$error":"#REF!"},{"$error":"#REF!"},{"$error":"#REF!"},{"$error":"#REF!"},{"$error":"#REF!"},{"$error":"#REF!"},{"$error":"#REF!"},{"$f":"M8+P8+Q8","v":{"$error":"#REF!"}},{"$f":"AI8+AJ8","v":{"$error":"#REF!"}},{"$f":"#REF!","v":{"$error":"#REF!"}},{"$f":"#REF!","v":{"$error":"#REF!"}},{"$f":"#REF!","v":{"$error":"#REF!"}},{"$f":"#REF!","v":{"$error":"#REF!"}},{"$f":"#REF!","v":{"$error":"#REF!"}},{"$f":"SUM(AO8:AQ8)","v":{"$error":"#REF!"}},{"$f":"#REF!","v":{"$error":"#REF!"}},{"$f":"#REF!","v":{"$error":"#REF!"}},{"$f":"#REF!+#REF!","v":{"$error":"#REF!"}},{"$f":"#REF!","v":{"$error":"#REF!"}},{"$f":"#REF!","v":{"$error":"#REF!"}},{"$f":"#REF!","v":{"$error":"#REF!"}},{"$f":"AX7/0.8*0.2","v":{"$error":"#REF!"}},{"$f":"#REF!","v":{"$error":"#REF!"}},{"$f":"#REF!","v":{"$error":"#REF!"}},{"$f":"#REF!","v":{"$error":"#REF!"}},{"$f":"#REF!","v":{"$error":"#REF!"}},{"$f":"nerr((AX8+AY8)/(BC8-AH8-AU8-AX8-AY8-AM8))","v":{"$error":"#NAME?"}},{"$f":"AH8+AK8+AL8+AN8+AS8+AT8+AV8+AR8+AW8+AX8+AY8","v":{"$error":"#REF!"}},{"$f":"#REF!","v":{"$error":"#REF!"}},{"$f":"SUM(BA8,BB8,AG8)","v":{"$error":"#REF!"}},null,null,{"$f":"nerr((BD8+BE8)/BC8)","v":{"$error":"#NAME?"}},{"$f":"nerr((BC8-BC7)/BC7)","v":{"$error":"#NAME?"}},{"$f":"'Баланс энергии'!R8","v":135269.60500000001},{"$f":"'Баланс энергии'!R18","v":15690.860844708501},null,{"$f":"IF(BH8=0,0,BI8/BH8)","v":0.11599694435944054},{"$f":"BI8*BJ8","v":0},null,{"$f":"BL8-BM8","v":0},{"$f":"nerr((BL8-BL7)/BL7)","v":{"$error":"#NAME?"}},{"$f":"'Баланс мощности'!H9","v":0},{"$f":"#REF!","v":{"$error":"#REF!"}},{"$f":"#REF!","v":{"$error":"#REF!"}},{"$f":"#REF!","v":{"$error":"#REF!"}}]
[null,2022,null,{"$f":"D8","v":{"$error":"#REF!"}},null,null,null,null,null,{"$f":"IF(E8=0,0,(E9-E8)/E8*K9)","v":{"$error":"#REF!"}},0.75,{"$f":"(1+C9)*(1-D9)*(1+J9)","v":{"$error":"#REF!"}},{"$f":"SUM(N9:O9)","v":{"$error":"#REF!"}},{"$f":"N8*$L9","v":{"$error":"#REF!"}},{"$f":"O8*L9","v":{"$error":"#REF!"}},{"$f":"P8*$L9","v":{"$error":"#REF!"}},{"$f":"R9+S9+Z9+AA9+AB9+AC9+AD9+AE9+AF9","v":{"$error":"#REF!"}},{"$f":"R8*$L9","v":{"$error":"#REF!"}},{"$f":"SUM(T9:Y9)","v":{"$error":"#REF!"}},{"$f":"T8*$L9","v":{"$error":"#REF!"}},{"$f":"U8*L9","v":{"$error":"#REF!"}},{"$f":"V8*L9","v":{"$error":"#REF!"}},{"$f":"W8*$L9","v":{"$error":"#REF!"}},{"$error":"#REF!"},{"$error":"#REF!"},{"$error":"#REF!"},{"$error":"#REF!"},{"$error":"#REF!"},{"$error":"#REF!"},{"$error":"#REF!"},{"$error":"#REF!"},{"$error":"#REF!"},{"$f":"M9+P9+Q9","v":{"$error":"#REF!"}},{"$f":"AI9+AJ9","v":0},null,null,null,null,null,{"$f":"SUM(AO9:AQ9)","v":0},null,null,null,null,null,null,null,null,null,null,null,{"$f":"nerr((AX9+AY9)/(BC9-AH9-AU9-AX9-AY9-AM9))","v":{"$error":"#NAME?"}},{"$f":"AH9+AK9+AL9+AN9+AS9+AT9+AV9+AR9+AW9+AX9+AY9","v":0},null,{"$f":"SUM(BA9,BB9,AG9)","v":{"$error":"#REF!"}},null,null,{"$f":"nerr((BD9+BE9)/BC9)","v":{"$error":"#NAME?"}},{"$f":"nerr((BC9-BC8)/BC8)","v":{"$error":"#NAME?"}},null,null,null,{"$f":"IF(BH9=0,0,BI9/BH9)","v":0},{"$f":"BI9*BJ9","v":0},null,{"$f":"BL9-BM9","v":0},{"$f":"nerr((BL9-BL8)/BL8)","v":{"$error":"#NAME?"}}]
[null,2023,null,{"$f":"D9","v":{"$error":"#REF!"}},null,null,null,null,null,{"$f":"IF(E9=0,0,(E10-E9)/E9*K10)","v":0},0.75,{"$f":"(1+C10)*(1-D10)*(1+J10)","v":{"$error":"#REF!"}},{"$f":"SUM(N10:O10)","v":{"$error":"#REF!"}},{"$f":"N9*$L10","v":{"$error":"#REF!"}},{"$f":"O9*L10","v":{"$error":"#REF!"}},{"$f":"P9*$L10","v":{"$error":"#REF!"}},{"$f":"R10+S10+Z10+AA10+AB10+AC10+AD10+AE10+AF10","v":{"$error":"#REF!"}},{"$f":"R9*$L10","v":{"$error":"#REF!"}},{"$f":"SUM(T10:Y10)","v":{"$error":"#REF!"}},{"$f":"T9*$L10","v":{"$error":"#REF!"}},{"$f":"U9*L10","v":{"$error":"#REF!"}},{"$f":"V9*L10","v":{"$error":"#REF!"}},{"$f":"W9*$L10","v":{"$error":"#REF!"}},{"$error":"#REF!"},{"$error":"#REF!"},{"$error":"#REF!"},{"$error":"#REF!"},{"$error":"#REF!"},{"$error":"#REF!"},{"$error":"#REF!"},{"$error":"#REF!"},{"$error":"#REF!"},{"$f":"M10+P10+Q10","v":{"$error":"#REF!"}},{"$f":"AI10+AJ10","v":0},null,null,null,null,null,{"$f":"SUM(AO10:AQ10)","v":0},null,null,null,null,null,null,null,null,null,null,null,{"$f":"nerr((AX10+AY10)/(BC10-AH10-AU10-AX10-AY10-AM10))","v":{"$error":"#NAME?"}},{"$f":"AH10+AK10+AL10+AN10+AS10+AT10+AV10+AR10+AW10+AX10+AY10","v":0},null,{"$f":"SUM(BA10,BB10,AG10)","v":{"$error":"#REF!"}},null,null,{"$f":"nerr((BD10+BE10)/BC10)","v":{"$error":"#NAME?"}},{"$f":"nerr((BC10-BC9)/BC9)","v":{"$error":"#NAME?"}},null,null,null,{"$f":"IF(BH10=0,0,BI10/BH10)","v":0},{"$f":"BI10*BJ10","v":0},null,{"$f":"BL10-BM10","v":0},{"$f":"nerr((BL10-BL9)/BL9)","v":{"$error":"#NAME?"}}]
[null,2024,null,{"$f":"D10","v":{"$error":"#REF!"}},null,null,null,null,null,{"$f":"IF(E10=0,0,(E11-E10)/E10*K11)","v":0},0.75,{"$f":"(1+C11)*(1-D11)*(1+J11)","v":{"$error":"#REF!"}},{"$f":"SUM(N11:O11)","v":{"$error":"#REF!"}},{"$f":"N10*$L11","v":{"$error":"#REF!"}},{"$f":"O10*L11","v":{"$error":"#REF!"}},{"$f":"P10*$L11","v":{"$error":"#REF!"}},{"$f":"R11+S11+Z11+AA11+AB11+AC11+AD11+AE11+AF11","v":{"$error":"#REF!"}},{"$f":"R10*$L11","v":{"$error":"#REF!"}},{"$f":"SUM(T11:Y11)","v":{"$error":"#REF!"}},{"$f":"T10*$L11","v":{"$error":"#REF!"}},{"$f":"U10*L11","v":{"$error":"#REF!"}},{"$f":"V10*L11","v":{"$error":"#REF!"}},{"$f":"W10*$L11","v":{"$error":"#REF!"}},{"$error":"#REF!"},{"$error":"#REF!"},{"$error":"#REF!"},{"$error":"#REF!"},{"$error":"#REF!"},{"$error":"#REF!"},{"$error":"#REF!"},{"$error":"#REF!"},{"$error":"#REF!"},{"$f":"M11+P11+Q11","v":{"$error":"#REF!"}},{"$f":"AI11+AJ11","v":0},null,null,null,null,null,{"$f":"SUM(AO11:AQ11)","v":0},null,null,null,null,null,null,null,null,null,null,null,{"$f":"((AX11+AY11)/(BC11-AH11-AU11-AX11-AY11-AM11))","v":{"$error":"#REF!"}},{"$f":"AH11+AK11+AL11+AN11+AS11+AT11+AV11+AR11+AW11+AX11+AY11","v":0},null,{"$f":"SUM(BA11,BB11,AG11)","v":{"$error":"#REF!"}},null,null,{"$f":"((BD11+BE11)/BC11)","v":{"$error":"#REF!"}},{"$f":"nerr((BC11-BC10)/BC10)","v":{"$error":"#NAME?"}},null,null,null,{"$f":"IF(BH11=0,0,BI11/BH11)","v":0},{"$f":"BI11*BJ11","v":0},null,{"$f":"BL11-BM11","v":0},{"$f":"nerr((BL11-BL10)/BL10)","v":{"$error":"#NAME?"}}]

{"sheet":"Форма 8.1 эксперты","index":9,"n_rows":31,"n_cols":32,"rows_kept":31,"cut":false,"hidden":true,"merged":[[6,9,8,9],[1,0,1,29],[2,0,2,29],[3,0,3,29],[5,0,5,11],[5,12,5,24],[5,25,8,25],[5,26,5,28],[5,29,8,29],[6,0,8,0],[6,1,8,1],[6,2,8,2],[6,3,8,3],[6,4,8,4],[6,5,7,6],[6,7,7,8],[6,11,8,11],[6,12,8,12],[6,13,8,13],[6,14,8,14],[6,15,6,23],[6,26,8,26],[6,27,8,27],[6,28,8,28],[7,15,8,15],[7,16,7,18],[7,19,7,22],[7,23,8,23],[6,24,8,24],[9,5,9,6],[9,7,9,8],[16,0,16,31],[17,0,17,1],[17,5,17,6],[17,7,17,8],[18,0,18,1],[18,5,18,6],[18,7,18,8],[19,0,19,1],[19,5,19,6],[19,7,19,8],[20,0,20,1],[20,5,20,6],[20,7,20,8],[21,0,21,1],[21,5,21,6],[21,7,21,8],[30,0,30,2],[24,0,24,16],[24,17,24,29],[25,0,25,16],[25,17,25,29],[28,0,28,2],[29,0,29,2]]}
[]
["Форма_8.1 - Журнал учета данных первичной информации по всем прекращениям передачи электрической энергии произошедших на объектах сетевой организации  ____   год"]
[{"$f":"#REF!","v":{"$error":"#REF!"}}]
["Наименование электросетевой организации"]
[]
["Данные о факте прекращения передачи электрической энергии",null,null,null,null,null,null,null,null,null,null,null,"Данные о масштабе прекращения передачи электрической энергии в сетевой организации",null,null,null,null,null,null,null,null,null,null,null,null,"Перечень смежных сетевых организаций, затронутых прекращением передачи электрической энергии","Данные о причинах прекращения передачи электрической энергии и их расследовании",null,null,"Учет в показателях надежности, в т.ч. индикативных показателях надежности (0 - нет, 1 - да) 3"]
["Номер прекращения передачи электрической энергии /\nНомер итоговой строки","Наименование структурной единицы сетевой организации 1","Вид объекта:\nКЛ, ВЛ, КВЛ, ПС, ТП, РП","Диспетчерское наименование объекта электросетевого хозяйства сетевой организации, в результате отключения которой произошло прекращение передачи электроэнергии потребителям услуг","Высший класс напряжения отключенного оборудования сетевой организации, Кв","Время и дата начала прекращения передачи электрической энергии",null,"Время и дата восстановления режима потребления электрической энергии потребителей услуг\n",null,"Вид прекращения передачи электроэнергии (П, А, В) 2",null,"Продолжительность прекращения передачи электрической энергии, час.","Перечень объектов электросетевого хозяйства, отключение которых привело к прекращению передачи электрической энергии потребителям услуг (ПС, ТП, РП, ВЛ, КЛ)","Перечень потребителей 1-й и 2-й категорий надежности, в отношении которых произошло полное ограничение режима потребления электрической энергии","Перечень потребителей 1-й и 2-й категорий надежности, в отношении которых произошло частичное ограничение режима потребления электрической энергии","Количество точек поставки потребителей услуг сетевой организации, в отношении которых произошел перерыв электроснабжения, шт., в том числе:",null,null,null,null,null,null,null,null,"Суммарный объем фактической нагрузки (мощности) на присоединениях потребителей услуг, по которым произошло прекращение передачи электрической энергии на момент возникновения такого события, кВт",null,"Номер и дата акта расследования технологического нарушения, записи в оперативном журнале","Код организационной причины аварии","Код технической причины повреждения оборудования"]
[null,null,null,null,null,null,null,null,null,null,null,null,null,null,null,"Всего","в разделении категорий надежности потребителей электрической энергии",null,null,"в разделении уровней напряжения ЭПУ потребителя электрической энергии",null,null,null,"Смежные сетевые организации и производители электрической энергии"]
[null,null,null,null,null,"ДД.ММ.ГГГГ (00:00:00)"," часы, минуты (00:00)","ДД.ММ.ГГГГ (00:00:00)"," часы, минуты (00:00)",null,null,null,null,null,null,null,"1-я категория надежности","2-я категория надежности","3-я категория надежности","BH\n(110 кВ и выше)","CH1\n(35 кВ)","CH2\n(6-20 кВ)","HH\n(0,22-1 кВ)"]
[1,"2","3","4","5","6",null,"7",null,"8",null,"9","10","11","12","13","14","15","16","17","18","19","20","21","22","23","24","25","26","27"]
[null,null,null,null,null,null,null,null,null,null,{"$f":"IF((H11=\"\"),0,H11-F11)","v":0},{"$f":"(IF((I11=\"\"),0,IF((I11>0),K11-G11+I11,I11-G11)))*24","v":0},null,null,null,{"$f":"Q11+R11+S11+X11","v":0},null,null,null,null,null,null,null,null,null,null,null,null,null,null,{"$f":"(IF(AND(J11=$J$21,AD11=1),P11*L11,0))","v":0},{"$f":"IF(J11=$J$19,P11*L11,0)","v":0}]
[null,null,null,null,null,null,null,null,null,null,0,0,null,null,null,0,null,null,null,null,null,null,null,null,null,null,null,null,null,null,0,0]
[null,null,null,null,null,null,null,null,null,null,0,0,null,null,null,0,null,null,null,null,null,null,null,null,null,null,null,null,null,null,0,0]
[null,null,null,null,null,null,null,null,null,null,0,0,null,null,null,0,null,null,null,null,null,null,null,null,null,null,null,null,null,null,0,0]
[null,null,null,null,null,null,null,null,null,null,0,0,null,null,null,0,null,null,null,null,null,null,null,null,null,null,null,null,null,null,0,0]
[null,null,null,null,null,null,null,null,null,null,0,0,null,null,null,0,null,null,null,null,null,null,null,null,null,null,null,null,null,null,0,0]
["Добавить"]
["Итого по всем прекращениям передачи\nэлектрической энергии за отчетный период:",null,"х","х","х","х",null,"х",null,"И",null,{"$f":"SUBTOTAL(9,L11:L16)","v":0},"х","х","х",{"$f":"SUBTOTAL(9,P11:P16)","v":0},0,0,0,0,0,0,0,0,0,0,"х","х","х","0;1",{"$f":"SUM(AE11:AE17)","v":0},{"$f":"SUM(AF11:AF17)","v":0}]
["- по ограничениям, связанным с проведением ремонтных работ",null,"х","х","х","х",null,"х",null,"П",null,{"$f":"SUMIF(J$11:J$16,J19,L$11:L$16)","v":0},"х","х","х",{"$f":"SUMIF(J$11:J$16,J19,P$11:P$16)","v":0},{"$f":"SUMIF(J$11:J$16,J19,Q$11:Q$16)","v":0},{"$f":"SUMIF(J$11:J$16,J19,R$11:R$16)","v":0},{"$f":"SUMIF(J$11:J$16,J19,S$11:S$16)","v":0},{"$f":"SUMIF(J$11:J$16,J19,T$11:T$16)","v":0},{"$f":"SUMIF(J$11:J$16,J19,U$11:U$16)","v":0},{"$f":"SUMIF(J$11:J$16,J19,V$11:V$16)","v":0},{"$f":"SUMIF(J$11:J$16,J19,W$11:W$16)","v":0},{"$f":"SUMIF(J$11:J$16,J19,X$11:X$16)","v":0},{"$f":"SUMIF(J$11:J$16,J19,Y$11:Y$16)","v":0},{"$f":"SUMIF(J$11:J$16,J19,Z$11:Z$16)","v":0},"х","х","х","0","х","х"]
["- по аварийным ограничениям",null,"х","х","х","х",null,"х",null,"А",null,{"$f":"SUMIF(J$11:J$16,J20,L$11:L$16)","v":0},"х","х","х",{"$f":"SUMIF(J$11:J$16,J20,P$11:P$16)","v":0},{"$f":"SUMIF(J$11:J$16,J20,Q$11:Q$16)","v":0},{"$f":"SUMIF(J$11:J$16,J20,R$11:R$16)","v":0},{"$f":"SUMIF(J$11:J$16,J20,S$11:S$16)","v":0},{"$f":"SUMIF(J$11:J$16,J20,T$11:T$16)","v":0},{"$f":"SUMIF(J$11:J$16,J20,U$11:U$16)","v":0},{"$f":"SUMIF(J$11:J$16,J20,V$11:V$16)","v":0},{"$f":"SUMIF(J$11:J$16,J20,W$11:W$16)","v":0},{"$f":"SUMIF(J$11:J$16,J20,X$11:X$16)","v":0},{"$f":"SUMIF(J$11:J$16,J20,Y$11:Y$16)","v":0},{"$f":"SUMIF(J$11:J$16,J20,Z$11:Z$16)","v":0},"х","х","х","1","х","х"]
["- по внерегламентным отключениям",null,"х","х","х","х",null,"х",null,"В",null,{"$f":"SUMIF(J$11:J$16,J21,L$11:L$16)","v":0},"х","х","х",{"$f":"SUMIF(J$11:J$16,J21,P$11:P$16)","v":0},{"$f":"SUMIF(J$11:J$16,J21,Q$11:Q$16)","v":0},{"$f":"SUMIF(J$11:J$16,J21,R$11:R$16)","v":0},{"$f":"SUMIF(J$11:J$16,J21,S$11:S$16)","v":0},{"$f":"SUMIF(J$11:J$16,J21,T$11:T$16)","v":0},{"$f":"SUMIF(J$11:J$16,J21,U$11:U$16)","v":0},{"$f":"SUMIF(J$11:J$16,J21,V$11:V$16)","v":0},{"$f":"SUMIF(J$11:J$16,J21,W$11:W$16)","v":0},{"$f":"SUMIF(J$11:J$16,J21,X$11:X$16)","v":0},{"$f":"SUMIF(J$11:J$16,J21,Y$11:Y$16)","v":0},{"$f":"SUMIF(J$11:J$16,J21,Z$11:Z$16)","v":0},"х","х","х","0;1","х","х"]
["- по внерегламентным отключениям,учитываемым при расчете показателей надежности, в том числе индикативных показателей надежности",null,"х","х","х","х",null,"х",null,"В1",null,{"$f":"SUM((AD11:AD16=1)*(J11:K16=$J$21)*L11:L16)","v":0},"х","х","х",{"$f":"SUM((AD11:AD16=1)*(J11:J16=$J$21)*P11:P16)","v":0},{"$f":"SUM((AD11:AD16=1)*(J11:J16=$J$21)*Q11:Q16)","v":0},{"$f":"SUM((AD11:AD16=1)*(J11:J16=$J$21)*R11:R16)","v":0},{"$f":"SUM((AD11:AD16=1)*(J11:J16=$J$21)*S11:S16)","v":0},{"$f":"SUM((AD11:AD16=1)*(J11:J16=$J$21)*T11:T16)","v":0},{"$f":"SUM((AD11:AD16=1)*(J11:J16=$J$21)*U11:U16)","v":0},{"$f":"SUM((AD11:AD16=1)*(J11:J16=$J$21)*V11:V16)","v":0},{"$f":"SUM((AD11:AD16=1)*(J11:J16=$J$21)*W11:W16)","v":0},{"$f":"SUM((AD11:AD16=1)*(J11:J16=$J$21)*X11:X16)","v":0},{"$f":"SUM((AD11:AD16=1)*(J11:J16=$J$21)*Y11:Y16)","v":0},{"$f":"SUM((AD11:AD16=1)*(J11:J16=$J$21)*Z11:Z16)","v":0},"х","х","х","1","х","х"]
[]
[]
[]
["Должность",null,null,null,null,null,null,null,null,null,null,null,null,null,null,null,null,"Ф. И. О."]
[]
["Примечание"]
["1 Указываются наименования производственных отделений или предприятий электрических сетей."]
["2  \"П\" - плановое отключение, связанное с необходимостью проведения ремонтно-восстановительных работ в соответствии с разделом III Правил полного и (или) частичного ограничения режима потребления электрической энергии;\n    \"А\" - аварийное ограничение, связанное с введением в действие графиков аварийного ограничения режима потребления в соответствии с пунктами 40-46 Правил полного и(или) частичного ограничения режима потребления электрической энергии;\n    \"В\" - внерегламентное отключение в соответствии с пунктом 47 Правил полного и (или) частичного ограничения режима потребления электрической энергии\n"]
["3 указывается 0 (ноль), если прекращение передачи электрической энергии не включается в расчет показателей надежности, что соответствует кодам организационных причин аварии  в соответствии с приложением N 2 приказа Минэнерго России N 90 и в соответствии с положениями  Методических указаний утв. приказом МИНЭНЕРГО № 1256 ;\nуказывается 1 (один), если прекращение передачи электрической энергии включается в расчет показателей надежности, что соответствует кодам организационных причин аварии  в соответствии с приложением N 2 приказа Минэнерго России N 90 и в соответствии с положениями  Методических указаний утв. приказом МИНЭНЕРГО № 1256 ;.\n"]

{"sheet":"TEHSHEET","index":10,"n_rows":18,"n_cols":5,"rows_kept":18,"cut":false,"hidden":true,"merged":[]}
[]
[]
[]
[]
[]
[]
[null,null,null,null,"Январь"]
[null,null,null,null,"Февраль"]
[null,null,null,null,"Март"]
[null,null,null,null,"Апрель"]
[null,null,null,null,"Май"]
[null,null,null,null,"Июнь"]
[null,null,null,null,"Июль"]
[null,null,null,null,"Август"]
[null,null,null,null,"Сентябрь"]
[null,null,null,null,"Октябрь"]
[null,null,null,null,"Ноябрь"]
[null,null,null,null,"Декабрь"]